BEGIN:VCALENDAR
VERSION:2.0
PRODID:-//Twocan Blue Musical Duo - ECPv6.14.2//NONSGML v1.0//EN
CALSCALE:GREGORIAN
METHOD:PUBLISH
X-ORIGINAL-URL:https://twocanblue.com
X-WR-CALDESC:Events for Twocan Blue Musical Duo
REFRESH-INTERVAL;VALUE=DURATION:PT1H
X-Robots-Tag:noindex
X-PUBLISHED-TTL:PT1H
BEGIN:VTIMEZONE
TZID:America/New_York
BEGIN:DAYLIGHT
TZOFFSETFROM:-0500
TZOFFSETTO:-0400
TZNAME:EDT
DTSTART:20220313T070000
END:DAYLIGHT
BEGIN:STANDARD
TZOFFSETFROM:-0400
TZOFFSETTO:-0500
TZNAME:EST
DTSTART:20221106T060000
END:STANDARD
END:VTIMEZONE
BEGIN:VEVENT
DTSTART;TZID=America/New_York:20220402T200000
DTEND;TZID=America/New_York:20220402T200000
DTSTAMP:20260423T052045
CREATED:20220328T133527Z
LAST-MODIFIED:20220328T133540Z
UID:3055-1648929600-1648929600@twocanblue.com
SUMMARY:The Fabulous Fleetwood's @ Rudy's
DESCRIPTION:
URL:https://twocanblue.com/event/the-fabulous-fleetwoods-rudys-3/
LOCATION:Rudy’s\, Lake Worth\, FL
ATTACH;FMTTYPE=image/jpeg:https://twocanblue.com/wp-content/uploads/2017/08/FF@DBGF-2008.jpg
END:VEVENT
END:VCALENDAR