BEGIN:VCALENDAR
VERSION:2.0
PRODID:-//Twocan Blue Musical Duo - ECPv6.14.2//NONSGML v1.0//EN
CALSCALE:GREGORIAN
METHOD:PUBLISH
X-ORIGINAL-URL:https://twocanblue.com
X-WR-CALDESC:Events for Twocan Blue Musical Duo
REFRESH-INTERVAL;VALUE=DURATION:PT1H
X-Robots-Tag:noindex
X-PUBLISHED-TTL:PT1H
BEGIN:VTIMEZONE
TZID:America/New_York
BEGIN:DAYLIGHT
TZOFFSETFROM:-0500
TZOFFSETTO:-0400
TZNAME:EDT
DTSTART:20220313T070000
END:DAYLIGHT
BEGIN:STANDARD
TZOFFSETFROM:-0400
TZOFFSETTO:-0500
TZNAME:EST
DTSTART:20221106T060000
END:STANDARD
END:VTIMEZONE
BEGIN:VEVENT
DTSTART;TZID=America/New_York:20221208T180000
DTEND;TZID=America/New_York:20221208T220000
DTSTAMP:20260422T114335
CREATED:20221129T183601Z
LAST-MODIFIED:20221129T183613Z
UID:3296-1670522400-1670536800@twocanblue.com
SUMMARY:"King Tide Rising" w/ Jeffrey James Harris @ Old Key Lime House
DESCRIPTION:Richie joins with Jeffrey James Harris and the band “King Tide Rising” at the “Old Key Lime House” in Lantana.
URL:https://twocanblue.com/event/king-tide-rising-w-jeffrey-james-harris-old-key-lime-house/
LOCATION:Old Key Lime House\, 300 E. Ocean Ave.\, Lantana\, FL\, 33462
ATTACH;FMTTYPE=image/jpeg:https://twocanblue.com/wp-content/uploads/2018/04/Richie-w-Strat.jpg
END:VEVENT
END:VCALENDAR