BEGIN:VCALENDAR
VERSION:2.0
PRODID:-//Twocan Blue Musical Duo - ECPv6.14.2//NONSGML v1.0//EN
CALSCALE:GREGORIAN
METHOD:PUBLISH
X-ORIGINAL-URL:https://twocanblue.com
X-WR-CALDESC:Events for Twocan Blue Musical Duo
REFRESH-INTERVAL;VALUE=DURATION:PT1H
X-Robots-Tag:noindex
X-PUBLISHED-TTL:PT1H
BEGIN:VTIMEZONE
TZID:America/New_York
BEGIN:DAYLIGHT
TZOFFSETFROM:-0500
TZOFFSETTO:-0400
TZNAME:EDT
DTSTART:20230312T070000
END:DAYLIGHT
BEGIN:STANDARD
TZOFFSETFROM:-0400
TZOFFSETTO:-0500
TZNAME:EST
DTSTART:20231105T060000
END:STANDARD
END:VTIMEZONE
BEGIN:VEVENT
DTSTART;TZID=America/New_York:20230422T130000
DTEND;TZID=America/New_York:20230422T143000
DTSTAMP:20260421T225701
CREATED:20230331T171620Z
LAST-MODIFIED:20230331T171632Z
UID:3432-1682168400-1682173800@twocanblue.com
SUMMARY:Twocan Blue @ The Pompano Beach Seafood Festival
DESCRIPTION:
URL:https://twocanblue.com/event/twocan-blue-the-pompano-beach-seafood-festival/
LOCATION:Pompano Beach Community Park\, 1806 NE 6th St.\, Pompano Beach\, FL\, United States
ATTACH;FMTTYPE=image/png:https://twocanblue.com/wp-content/uploads/2021/01/TCB-twocan-logo-560.png
END:VEVENT
BEGIN:VEVENT
DTSTART;TZID=America/New_York:20230422T143000
DTEND;TZID=America/New_York:20230422T160000
DTSTAMP:20260421T225701
CREATED:20230331T171847Z
LAST-MODIFIED:20230331T171909Z
UID:3434-1682173800-1682179200@twocanblue.com
SUMMARY:The Fabulous Fleetwood's @ The Pompano Beach Seafood Festival
DESCRIPTION:
URL:https://twocanblue.com/event/the-fabulous-fleetwoods-the-pompano-beach-seafood-festival/
LOCATION:Pompano Beach Community Park\, 1806 NE 6th St.\, Pompano Beach\, FL\, United States
ATTACH;FMTTYPE=image/jpeg:https://twocanblue.com/wp-content/uploads/2015/04/Fleetpic001.jpg
END:VEVENT
END:VCALENDAR