BEGIN:VCALENDAR
VERSION:2.0
PRODID:-//Twocan Blue Musical Duo - ECPv6.14.2//NONSGML v1.0//EN
CALSCALE:GREGORIAN
METHOD:PUBLISH
X-WR-CALNAME:Twocan Blue Musical Duo
X-ORIGINAL-URL:https://twocanblue.com
X-WR-CALDESC:Events for Twocan Blue Musical Duo
REFRESH-INTERVAL;VALUE=DURATION:PT1H
X-Robots-Tag:noindex
X-PUBLISHED-TTL:PT1H
BEGIN:VTIMEZONE
TZID:America/New_York
BEGIN:DAYLIGHT
TZOFFSETFROM:-0500
TZOFFSETTO:-0400
TZNAME:EDT
DTSTART:20230312T070000
END:DAYLIGHT
BEGIN:STANDARD
TZOFFSETFROM:-0400
TZOFFSETTO:-0500
TZNAME:EST
DTSTART:20231105T060000
END:STANDARD
END:VTIMEZONE
BEGIN:VEVENT
DTSTART;TZID=America/New_York:20231111T173000
DTEND;TZID=America/New_York:20231111T200000
DTSTAMP:20260421T022353
CREATED:20230915T151955Z
LAST-MODIFIED:20230915T152020Z
UID:3632-1699723800-1699732800@twocanblue.com
SUMMARY:w/Capt. Reese and "Son Of Man"
DESCRIPTION:Richie joins with Capt. Reese Singleton and “Son of Man” at Double Roads in Jupiter for some rockin’ blues.  An early show (5:30).
URL:https://twocanblue.com/event/w-capt-reese-and-son-of-man/
LOCATION:Double Roads\, 103 US 1 Suite 1A\, Jupiter\, FL
ATTACH;FMTTYPE=image/jpeg:https://twocanblue.com/wp-content/uploads/2018/04/Richie-w-Strat.jpg
END:VEVENT
END:VCALENDAR