BEGIN:VCALENDAR
VERSION:2.0
PRODID:-//Twocan Blue Musical Duo - ECPv6.14.2//NONSGML v1.0//EN
CALSCALE:GREGORIAN
METHOD:PUBLISH
X-ORIGINAL-URL:https://twocanblue.com
X-WR-CALDESC:Events for Twocan Blue Musical Duo
REFRESH-INTERVAL;VALUE=DURATION:PT1H
X-Robots-Tag:noindex
X-PUBLISHED-TTL:PT1H
BEGIN:VTIMEZONE
TZID:America/New_York
BEGIN:DAYLIGHT
TZOFFSETFROM:-0500
TZOFFSETTO:-0400
TZNAME:EDT
DTSTART:20240310T070000
END:DAYLIGHT
BEGIN:STANDARD
TZOFFSETFROM:-0400
TZOFFSETTO:-0500
TZNAME:EST
DTSTART:20241103T060000
END:STANDARD
END:VTIMEZONE
BEGIN:VEVENT
DTSTART;TZID=America/New_York:20240408T190000
DTEND;TZID=America/New_York:20240506T000000
DTSTAMP:20260420T145152
CREATED:20240322T155549Z
LAST-MODIFIED:20240322T155600Z
UID:3778-1712602800-1714953600@twocanblue.com
SUMMARY:"Biscuit Jam" @ The Funky Biscuit
DESCRIPTION:Richie joins with the house band for the Monday night “Biscuit Jam”.  This week’s featured guest artist is Tommy Z
URL:https://twocanblue.com/event/biscuit-jam-the-funky-biscuit-123/
LOCATION:The Funky Biscuit\, 303 SW Mizner Blvd\, Boca Raton\, FL\, 33432\, United States
ATTACH;FMTTYPE=image/jpeg:https://twocanblue.com/wp-content/uploads/2018/04/Richie-w-Strat.jpg
END:VEVENT
BEGIN:VEVENT
DTSTART;TZID=America/New_York:20240424T190000
DTEND;TZID=America/New_York:20240424T210000
DTSTAMP:20260420T145152
CREATED:20240421T201156Z
LAST-MODIFIED:20240421T201228Z
UID:3820-1713985200-1713992400@twocanblue.com
SUMMARY:Rockin' Jake @ The Hollywood "Margaritaville" Bandshell
DESCRIPTION:Richie will be on guitar for a set of rockin’ bluesy funk with the Rockin’ Jake Band.
URL:https://twocanblue.com/event/rockin-jake-the-hollywood-margarita-bandshell/
LOCATION:Margaritaville Bandshell – Hollywood FL\, 1111 N. Ocean Dr.\, Hollywood\, FL\, 33019
ATTACH;FMTTYPE=image/jpeg:https://twocanblue.com/wp-content/uploads/2018/04/Richie-John-Garbarino-photog.jpg
END:VEVENT
END:VCALENDAR