BEGIN:VCALENDAR
VERSION:2.0
PRODID:-//Twocan Blue Musical Duo - ECPv6.14.2//NONSGML v1.0//EN
CALSCALE:GREGORIAN
METHOD:PUBLISH
X-WR-CALNAME:Twocan Blue Musical Duo
X-ORIGINAL-URL:https://twocanblue.com
X-WR-CALDESC:Events for Twocan Blue Musical Duo
REFRESH-INTERVAL;VALUE=DURATION:PT1H
X-Robots-Tag:noindex
X-PUBLISHED-TTL:PT1H
BEGIN:VTIMEZONE
TZID:America/New_York
BEGIN:DAYLIGHT
TZOFFSETFROM:-0500
TZOFFSETTO:-0400
TZNAME:EDT
DTSTART:20240310T070000
END:DAYLIGHT
BEGIN:STANDARD
TZOFFSETFROM:-0400
TZOFFSETTO:-0500
TZNAME:EST
DTSTART:20241103T060000
END:STANDARD
END:VTIMEZONE
BEGIN:VEVENT
DTSTART;TZID=America/New_York:20240831T200000
DTEND;TZID=America/New_York:20240831T230000
DTSTAMP:20260420T032109
CREATED:20240821T174653Z
LAST-MODIFIED:20240821T174704Z
UID:3953-1725134400-1725145200@twocanblue.com
SUMMARY:Twocan Blue & Friends @ Tim Finnegans
DESCRIPTION:
URL:https://twocanblue.com/event/twocan-blue-friends-tim-finnegans/
LOCATION:Tim Finnegan’s\, 2885 S. Fed. Hwy.\, Delray Beach\, FL\, 33483
ATTACH;FMTTYPE=image/jpeg:https://twocanblue.com/wp-content/uploads/2014/11/image-1.jpg
END:VEVENT
END:VCALENDAR