BEGIN:VCALENDAR
VERSION:2.0
PRODID:-//Twocan Blue Musical Duo - ECPv6.14.2//NONSGML v1.0//EN
CALSCALE:GREGORIAN
METHOD:PUBLISH
X-WR-CALNAME:Twocan Blue Musical Duo
X-ORIGINAL-URL:https://twocanblue.com
X-WR-CALDESC:Events for Twocan Blue Musical Duo
REFRESH-INTERVAL;VALUE=DURATION:PT1H
X-Robots-Tag:noindex
X-PUBLISHED-TTL:PT1H
BEGIN:VTIMEZONE
TZID:America/New_York
BEGIN:DAYLIGHT
TZOFFSETFROM:-0500
TZOFFSETTO:-0400
TZNAME:EDT
DTSTART:20240310T070000
END:DAYLIGHT
BEGIN:STANDARD
TZOFFSETFROM:-0400
TZOFFSETTO:-0500
TZNAME:EST
DTSTART:20241103T060000
END:STANDARD
END:VTIMEZONE
BEGIN:VEVENT
DTSTART;TZID=America/New_York:20240901T170000
DTEND;TZID=America/New_York:20240901T200000
DTSTAMP:20260420T032100
CREATED:20240821T161002Z
LAST-MODIFIED:20240821T161014Z
UID:3916-1725210000-1725220800@twocanblue.com
SUMMARY:The Fabulous Fleetwoods @ Rudys at The Bamboo Room
DESCRIPTION:
URL:https://twocanblue.com/event/the-fabulous-fleetwoods-rudys-at-the-bamboo-room/
LOCATION:Rudy’s\, Lake Worth\, FL
ATTACH;FMTTYPE=image/jpeg:https://twocanblue.com/wp-content/uploads/2017/08/FF@DBGF-2008.jpg
END:VEVENT
END:VCALENDAR