BEGIN:VCALENDAR
VERSION:2.0
PRODID:-//Twocan Blue Musical Duo - ECPv6.14.2//NONSGML v1.0//EN
CALSCALE:GREGORIAN
METHOD:PUBLISH
X-ORIGINAL-URL:https://twocanblue.com
X-WR-CALDESC:Events for Twocan Blue Musical Duo
REFRESH-INTERVAL;VALUE=DURATION:PT1H
X-Robots-Tag:noindex
X-PUBLISHED-TTL:PT1H
BEGIN:VTIMEZONE
TZID:America/New_York
BEGIN:DAYLIGHT
TZOFFSETFROM:-0500
TZOFFSETTO:-0400
TZNAME:EDT
DTSTART:20240310T070000
END:DAYLIGHT
BEGIN:STANDARD
TZOFFSETFROM:-0400
TZOFFSETTO:-0500
TZNAME:EST
DTSTART:20241103T060000
END:STANDARD
END:VTIMEZONE
BEGIN:VEVENT
DTSTART;TZID=America/New_York:20240912T193000
DTEND;TZID=America/New_York:20241004T220000
DTSTAMP:20260420T032700
CREATED:20240821T163532Z
LAST-MODIFIED:20240821T164016Z
UID:3928-1726169400-1728079200@twocanblue.com
SUMMARY:Twocan Blue @ Village Music of Wellington
DESCRIPTION:
URL:https://twocanblue.com/event/twocan-blue-village-music-of-wellington-2/
LOCATION:Village Music\, 10660 Forest Hill Blvd.\, Wellington\, FL\, 33414
ATTACH;FMTTYPE=image/jpeg:https://twocanblue.com/wp-content/uploads/2014/11/10881665_1529876507261483_4660710390013814205_n.jpg
END:VEVENT
END:VCALENDAR