BEGIN:VCALENDAR
VERSION:2.0
PRODID:-//Twocan Blue Musical Duo - ECPv6.14.2//NONSGML v1.0//EN
CALSCALE:GREGORIAN
METHOD:PUBLISH
X-ORIGINAL-URL:https://twocanblue.com
X-WR-CALDESC:Events for Twocan Blue Musical Duo
REFRESH-INTERVAL;VALUE=DURATION:PT1H
X-Robots-Tag:noindex
X-PUBLISHED-TTL:PT1H
BEGIN:VTIMEZONE
TZID:America/New_York
BEGIN:DAYLIGHT
TZOFFSETFROM:-0500
TZOFFSETTO:-0400
TZNAME:EDT
DTSTART:20240310T070000
END:DAYLIGHT
BEGIN:STANDARD
TZOFFSETFROM:-0400
TZOFFSETTO:-0500
TZNAME:EST
DTSTART:20241103T060000
END:STANDARD
END:VTIMEZONE
BEGIN:VEVENT
DTSTART;TZID=America/New_York:20240922T193000
DTEND;TZID=America/New_York:20241104T000000
DTSTAMP:20260419T233426
CREATED:20240922T211704Z
LAST-MODIFIED:20240922T211719Z
UID:3984-1727033400-1730678400@twocanblue.com
SUMMARY:"Biscuit Jam" @ The Funky Biscuit
DESCRIPTION:Richie joins with the house band for the Monday night “Biscuit Jam”
URL:https://twocanblue.com/event/biscuit-jam-the-funky-biscuit-152/
LOCATION:The Funky Biscuit\, 303 SW Mizner Blvd\, Boca Raton\, FL\, 33432\, United States
ATTACH;FMTTYPE=image/jpeg:https://twocanblue.com/wp-content/uploads/2015/06/Richie-faded.jpg
END:VEVENT
BEGIN:VEVENT
DTSTART;TZID=America/New_York:20241021T193000
DTEND;TZID=America/New_York:20241118T000000
DTSTAMP:20260419T233426
CREATED:20240922T201818Z
LAST-MODIFIED:20240922T201845Z
UID:3958-1729539000-1731888000@twocanblue.com
SUMMARY:"Biscuit Jam" @ The Funky Biscuit
DESCRIPTION:Richie joins with the house band for the Monday night “Biscuit Jam”.
URL:https://twocanblue.com/event/biscuit-jam-the-funky-biscuit-147/
LOCATION:Funky Biscuit
ATTACH;FMTTYPE=image/jpeg:https://twocanblue.com/wp-content/uploads/2018/04/Richie-w-Strat.jpg
END:VEVENT
BEGIN:VEVENT
DTSTART;TZID=America/New_York:20241030T190000
DTEND;TZID=America/New_York:20241030T220000
DTSTAMP:20260419T233426
CREATED:20241027T205949Z
LAST-MODIFIED:20241027T210001Z
UID:3989-1730314800-1730325600@twocanblue.com
SUMMARY:Twocan Blue @ Wolfie's
DESCRIPTION:
URL:https://twocanblue.com/event/twocan-blue-wolfies/
LOCATION:Wolfies\, 251 US-1\, Jupiter\, FL
ATTACH;FMTTYPE=image/jpeg:https://twocanblue.com/wp-content/uploads/2014/11/10881665_1529876507261483_4660710390013814205_n.jpg
END:VEVENT
END:VCALENDAR