BEGIN:VCALENDAR
VERSION:2.0
PRODID:-//Twocan Blue Musical Duo - ECPv6.14.2//NONSGML v1.0//EN
CALSCALE:GREGORIAN
METHOD:PUBLISH
X-WR-CALNAME:Twocan Blue Musical Duo
X-ORIGINAL-URL:https://twocanblue.com
X-WR-CALDESC:Events for Twocan Blue Musical Duo
REFRESH-INTERVAL;VALUE=DURATION:PT1H
X-Robots-Tag:noindex
X-PUBLISHED-TTL:PT1H
BEGIN:VTIMEZONE
TZID:America/New_York
BEGIN:DAYLIGHT
TZOFFSETFROM:-0500
TZOFFSETTO:-0400
TZNAME:EDT
DTSTART:20240310T070000
END:DAYLIGHT
BEGIN:STANDARD
TZOFFSETFROM:-0400
TZOFFSETTO:-0500
TZNAME:EST
DTSTART:20241103T060000
END:STANDARD
END:VTIMEZONE
BEGIN:VEVENT
DTSTART;TZID=America/New_York:20241127T190000
DTEND;TZID=America/New_York:20241127T190000
DTSTAMP:20260419T211043
CREATED:20240922T205507Z
LAST-MODIFIED:20240922T205519Z
UID:3964-1732734000-1732734000@twocanblue.com
SUMMARY:"Long May You Run" @ The Funky Biscuit
DESCRIPTION:A night for celebrating the music of Neil Young.  The Fabulous Fleetwood’s along with friends Jerry Leeman and Jim Felicio come together and play everything from Buffalo Springfield to “Rockin’ In The Free World” and much more.
URL:https://twocanblue.com/event/long-may-you-run-the-funky-biscuit/
LOCATION:The Funky Biscuit\, 303 SW Mizner Blvd\, Boca Raton\, FL\, 33432\, United States
ATTACH;FMTTYPE=image/jpeg:https://twocanblue.com/wp-content/uploads/2020/03/2020_5_2_Long-May-You-Run-1080x1080.jpg
END:VEVENT
END:VCALENDAR