BEGIN:VCALENDAR
VERSION:2.0
PRODID:-//Twocan Blue Musical Duo - ECPv6.14.2//NONSGML v1.0//EN
CALSCALE:GREGORIAN
METHOD:PUBLISH
X-ORIGINAL-URL:https://twocanblue.com
X-WR-CALDESC:Events for Twocan Blue Musical Duo
REFRESH-INTERVAL;VALUE=DURATION:PT1H
X-Robots-Tag:noindex
X-PUBLISHED-TTL:PT1H
BEGIN:VTIMEZONE
TZID:America/New_York
BEGIN:DAYLIGHT
TZOFFSETFROM:-0500
TZOFFSETTO:-0400
TZNAME:EDT
DTSTART:20250309T070000
END:DAYLIGHT
BEGIN:STANDARD
TZOFFSETFROM:-0400
TZOFFSETTO:-0500
TZNAME:EST
DTSTART:20251102T060000
END:STANDARD
END:VTIMEZONE
BEGIN:VEVENT
DTSTART;TZID=America/New_York:20250201T133000
DTEND;TZID=America/New_York:20250201T150000
DTSTAMP:20260419T150701
CREATED:20241231T175723Z
LAST-MODIFIED:20241231T175748Z
UID:4057-1738416600-1738422000@twocanblue.com
SUMMARY:The Fabulous Fleetwood's @ So. Fla. Garlic Fest
DESCRIPTION:The Fabulous Fleetwood’s make their annual appearance at the South Florida Garlic Fest.
URL:https://twocanblue.com/event/the-fabulous-fleetwoods-so-fla-garlic-fest/
LOCATION:South Florida Garlic Fest\, 12100 Forest Hill Blvd.\, Wellington\, FL
ATTACH;FMTTYPE=image/jpeg:https://twocanblue.com/wp-content/uploads/2015/04/ff-with-tess.jpg
END:VEVENT
BEGIN:VEVENT
DTSTART;TZID=America/New_York:20250201T190000
DTEND;TZID=America/New_York:20250201T190000
DTSTAMP:20260419T150701
CREATED:20250117T160016Z
LAST-MODIFIED:20250117T160029Z
UID:4088-1738436400-1738436400@twocanblue.com
SUMMARY:"Big Boss Man" feat. The Fabulous Fleetwoods & Rich Friedman
DESCRIPTION:Celebrating the early days of The Grateful Dead when Ron “Pigpen” McCernan was the frontman\, bringing a strong blues influence to the bands songs and sound.  Rich Friedman of “Crazy Fingers” joins in on guitar.  Jerry Leeman will open the show.
URL:https://twocanblue.com/event/big-boss-man-feat-the-fabulous-fleetwoods-rich-friedman/
LOCATION:The Bamboo Room\, 25 S. J St.\, Lake Worth\, FL\, 33460
ATTACH;FMTTYPE=image/jpeg:https://twocanblue.com/wp-content/uploads/2025/01/Big-Boss-Man-poster.jpg
END:VEVENT
END:VCALENDAR