BEGIN:VCALENDAR
VERSION:2.0
PRODID:-//Twocan Blue Musical Duo - ECPv6.14.2//NONSGML v1.0//EN
CALSCALE:GREGORIAN
METHOD:PUBLISH
X-ORIGINAL-URL:https://twocanblue.com
X-WR-CALDESC:Events for Twocan Blue Musical Duo
REFRESH-INTERVAL;VALUE=DURATION:PT1H
X-Robots-Tag:noindex
X-PUBLISHED-TTL:PT1H
BEGIN:VTIMEZONE
TZID:America/New_York
BEGIN:DAYLIGHT
TZOFFSETFROM:-0500
TZOFFSETTO:-0400
TZNAME:EDT
DTSTART:20210314T070000
END:DAYLIGHT
BEGIN:STANDARD
TZOFFSETFROM:-0400
TZOFFSETTO:-0500
TZNAME:EST
DTSTART:20211107T060000
END:STANDARD
END:VTIMEZONE
BEGIN:VEVENT
DTSTART;TZID=America/New_York:20210802T190000
DTEND;TZID=America/New_York:20210802T190000
DTSTAMP:20260422T072350
CREATED:20210729T145816Z
LAST-MODIFIED:20210729T145909Z
UID:2851-1627930800-1627930800@twocanblue.com
SUMMARY:"Biscuit Jam' @ The Funky Biscuit
DESCRIPTION:Richie joins with the house band for the Monday night “Biscuit Jam”.  This weeks featured guest(s) are the reunited “Nucklebusters” band.
URL:https://twocanblue.com/event/biscuit-jam-the-funky-biscuit-16/
LOCATION:The Funky Biscuit\, 303 SW Mizner Blvd\, Boca Raton\, FL\, 33432\, United States
ATTACH;FMTTYPE=image/jpeg:https://twocanblue.com/wp-content/uploads/2021/06/New-Biscuit-band-shot.jpg
END:VEVENT
BEGIN:VEVENT
DTSTART;TZID=America/New_York:20210809T190000
DTEND;TZID=America/New_York:20210809T190000
DTSTAMP:20260422T072350
CREATED:20210729T150235Z
LAST-MODIFIED:20210729T150246Z
UID:2853-1628535600-1628535600@twocanblue.com
SUMMARY:"Biscuit Jam" @ The Funky Biscuit
DESCRIPTION:Richie joins with the house band for the Monday night “Biscuit Jam”.  This weeks featured guest is Captain Reese.
URL:https://twocanblue.com/event/biscuit-jam-the-funky-biscuit-17/
LOCATION:The Funky Biscuit\, 303 SW Mizner Blvd\, Boca Raton\, FL\, 33432\, United States
ATTACH;FMTTYPE=image/jpeg:https://twocanblue.com/wp-content/uploads/2018/04/Richie-John-Garbarino-photog.jpg
END:VEVENT
BEGIN:VEVENT
DTSTART;TZID=America/New_York:20210813T170000
DTEND;TZID=America/New_York:20210813T200000
DTSTAMP:20260422T072350
CREATED:20210729T150711Z
LAST-MODIFIED:20210729T150718Z
UID:2857-1628874000-1628884800@twocanblue.com
SUMMARY:Twocan Blue @ The Funky Biscuit
DESCRIPTION:
URL:https://twocanblue.com/event/twocan-blue-the-funky-biscuit-14/
LOCATION:The Funky Biscuit\, 303 SW Mizner Blvd\, Boca Raton\, FL\, 33432\, United States
ATTACH;FMTTYPE=image/png:https://twocanblue.com/wp-content/uploads/2021/01/TCB-twocan-logo-560.png
END:VEVENT
BEGIN:VEVENT
DTSTART;TZID=America/New_York:20210816T190000
DTEND;TZID=America/New_York:20210816T190000
DTSTAMP:20260422T072350
CREATED:20210729T150514Z
LAST-MODIFIED:20210729T150523Z
UID:2855-1629140400-1629140400@twocanblue.com
SUMMARY:"Biscuit Jam" @ The Funky Biscuit
DESCRIPTION:Richie joins with the house band for the Monday night “Biscuit Jam”.  This weeks featured guest is Dan Dratch and the Blues Crusaders.
URL:https://twocanblue.com/event/biscuit-jam-the-funky-biscuit-18/
LOCATION:The Funky Biscuit\, 303 SW Mizner Blvd\, Boca Raton\, FL\, 33432\, United States
ATTACH;FMTTYPE=image/jpeg:https://twocanblue.com/wp-content/uploads/2017/04/Steve-at-the-Biscuit.jpg
END:VEVENT
BEGIN:VEVENT
DTSTART;TZID=America/New_York:20210820T170000
DTEND;TZID=America/New_York:20210820T200000
DTSTAMP:20260422T072350
CREATED:20210729T150931Z
LAST-MODIFIED:20210729T150941Z
UID:2859-1629478800-1629489600@twocanblue.com
SUMMARY:Twocan Blue @ The Funky Biscuit
DESCRIPTION:
URL:https://twocanblue.com/event/twocan-blue-the-funky-biscuit-15/
LOCATION:The Funky Biscuit\, 303 SW Mizner Blvd\, Boca Raton\, FL\, 33432\, United States
ATTACH;FMTTYPE=image/jpeg:https://twocanblue.com/wp-content/uploads/2014/11/10881665_1529876507261483_4660710390013814205_n.jpg
END:VEVENT
BEGIN:VEVENT
DTSTART;TZID=America/New_York:20210821T190000
DTEND;TZID=America/New_York:20210821T190000
DTSTAMP:20260422T072350
CREATED:20210604T164647Z
LAST-MODIFIED:20210604T164715Z
UID:2819-1629572400-1629572400@twocanblue.com
SUMMARY:"Old Boca Fest" @ The Funky Biscuit
DESCRIPTION:The annual gathering of friends and bands from “back in the day”.  Music by “The Nucklebusters”\, The Buster Leggs Band” and “The Fabulous Fleetwood’s”
URL:https://twocanblue.com/event/old-boca-fest-the-funky-biscuit/
LOCATION:The Funky Biscuit\, 303 SW Mizner Blvd\, Boca Raton\, FL\, 33432\, United States
ATTACH;FMTTYPE=image/jpeg:https://twocanblue.com/wp-content/uploads/2015/10/1024x600_04.jpg
END:VEVENT
BEGIN:VEVENT
DTSTART;TZID=America/New_York:20210823T190000
DTEND;TZID=America/New_York:20210917T000000
DTSTAMP:20260422T072350
CREATED:20210729T151235Z
LAST-MODIFIED:20210729T151306Z
UID:2861-1629745200-1631836800@twocanblue.com
SUMMARY:"Biscuit Jam" @ The Funky Biscuit
DESCRIPTION:Richie joins with the house band for the Monday night “Biscuit Jam”.  This weeks featured guest is David Julia.
URL:https://twocanblue.com/event/biscuit-jam-the-funky-biscuit-19/
LOCATION:The Funky Biscuit\, 303 SW Mizner Blvd\, Boca Raton\, FL\, 33432\, United States
ATTACH;FMTTYPE=image/jpeg:https://twocanblue.com/wp-content/uploads/2018/04/Richie-w-Strat.jpg
END:VEVENT
BEGIN:VEVENT
DTSTART;TZID=America/New_York:20210827T170000
DTEND;TZID=America/New_York:20210827T200000
DTSTAMP:20260422T072350
CREATED:20210729T151419Z
LAST-MODIFIED:20210729T151427Z
UID:2863-1630083600-1630094400@twocanblue.com
SUMMARY:Twocan Blue @ The Funky Biscuit
DESCRIPTION:
URL:https://twocanblue.com/event/twocan-blue-the-funky-biscuit-16/
LOCATION:The Funky Biscuit\, 303 SW Mizner Blvd\, Boca Raton\, FL\, 33432\, United States
ATTACH;FMTTYPE=image/jpeg:https://twocanblue.com/wp-content/uploads/2014/11/twocan-blue-funky-biscuit-21.jpg
END:VEVENT
BEGIN:VEVENT
DTSTART;TZID=America/New_York:20210828T200000
DTEND;TZID=America/New_York:20210828T200000
DTSTAMP:20260422T072350
CREATED:20210519T185259Z
LAST-MODIFIED:20210625T185800Z
UID:2782-1630180800-1630180800@twocanblue.com
SUMMARY:"South City Brothers" @ The Casino at Dania Beach/Stage 954
DESCRIPTION:Richie joins in with this celebration of the music of the Doobie Brothers.
URL:https://twocanblue.com/event/south-city-brothers-the-casino-at-dania-beach-stage-954/
LOCATION:The Casino at Dania Beach/Stage 954\, 301 E Dania Beach Blvd.\, Dania\, FL\, 33004
ATTACH;FMTTYPE=image/jpeg:https://twocanblue.com/wp-content/uploads/2021/05/Doobie-logo.jpg
END:VEVENT
BEGIN:VEVENT
DTSTART;TZID=America/New_York:20210830T190000
DTEND;TZID=America/New_York:20210830T190000
DTSTAMP:20260422T072350
CREATED:20210729T151652Z
LAST-MODIFIED:20210729T151652Z
UID:2865-1630350000-1630350000@twocanblue.com
SUMMARY:"Biscuit Jam" @ The Funky Biscuit
DESCRIPTION:Richie joins with the house band for the Monday night “Biscuit Jam”.  This weeks featured guest is JP Soars.
URL:https://twocanblue.com/event/biscuit-jam-the-funky-biscuit-20/
LOCATION:FL
ATTACH;FMTTYPE=image/jpeg:https://twocanblue.com/wp-content/uploads/2021/06/New-Biscuit-band-shot.jpg
END:VEVENT
END:VCALENDAR