BEGIN:VCALENDAR
VERSION:2.0
PRODID:-//Twocan Blue Musical Duo - ECPv6.14.2//NONSGML v1.0//EN
CALSCALE:GREGORIAN
METHOD:PUBLISH
X-ORIGINAL-URL:https://twocanblue.com
X-WR-CALDESC:Events for Twocan Blue Musical Duo
REFRESH-INTERVAL;VALUE=DURATION:PT1H
X-Robots-Tag:noindex
X-PUBLISHED-TTL:PT1H
BEGIN:VTIMEZONE
TZID:America/New_York
BEGIN:DAYLIGHT
TZOFFSETFROM:-0500
TZOFFSETTO:-0400
TZNAME:EDT
DTSTART:20210314T070000
END:DAYLIGHT
BEGIN:STANDARD
TZOFFSETFROM:-0400
TZOFFSETTO:-0500
TZNAME:EST
DTSTART:20211107T060000
END:STANDARD
END:VTIMEZONE
BEGIN:VEVENT
DTSTART;TZID=America/New_York:20211001T170000
DTEND;TZID=America/New_York:20211001T200000
DTSTAMP:20260422T143734
CREATED:20210914T161902Z
LAST-MODIFIED:20210914T161914Z
UID:2892-1633107600-1633118400@twocanblue.com
SUMMARY:Twocan Blue @ The Funky Biscuit
DESCRIPTION:
URL:https://twocanblue.com/event/twocan-blue-the-funky-biscuit-19/
LOCATION:The Funky Biscuit\, 303 SW Mizner Blvd\, Boca Raton\, FL\, 33432\, United States
ATTACH;FMTTYPE=image/jpeg:https://twocanblue.com/wp-content/uploads/2014/11/twocan-blue-funky-biscuit-21.jpg
END:VEVENT
BEGIN:VEVENT
DTSTART;TZID=America/New_York:20211007T173000
DTEND;TZID=America/New_York:20211007T210000
DTSTAMP:20260422T143734
CREATED:20210914T162136Z
LAST-MODIFIED:20210914T162144Z
UID:2894-1633627800-1633640400@twocanblue.com
SUMMARY:Twocan Blue @ Galuppi's
DESCRIPTION:
URL:https://twocanblue.com/event/twocan-blue-galuppis-42/
LOCATION:Galuppi’s on the Green\, Pompano Beach\, FL\, United States
ATTACH;FMTTYPE=image/jpeg:https://twocanblue.com/wp-content/uploads/2019/06/20190103_163606-e1560002717812.jpg
END:VEVENT
BEGIN:VEVENT
DTSTART;TZID=America/New_York:20211008T190000
DTEND;TZID=America/New_York:20211008T210000
DTSTAMP:20260422T143734
CREATED:20210914T162801Z
LAST-MODIFIED:20211008T153344Z
UID:2896-1633719600-1633726800@twocanblue.com
SUMMARY:"The Fabulous Fleetwood's" @ Coconut Creek Community Center
DESCRIPTION:The FabFleets play in Coconut Creek at the Coconut Creek Community Center\n1100 Lyons Rd.  Coconut Creek 33063
URL:https://twocanblue.com/event/the-fabulous-fleetwoods-sabal-pines-park/
LOCATION:Sabal Pines Park\, 1100 Lyons Rd.\, Coconut Creek\, FL\, 33063
ATTACH;FMTTYPE=image/jpeg:https://twocanblue.com/wp-content/uploads/2018/06/BH0nStage.jpg
END:VEVENT
BEGIN:VEVENT
DTSTART;TZID=America/New_York:20211014T173000
DTEND;TZID=America/New_York:20211014T210000
DTSTAMP:20260422T143734
CREATED:20210914T163432Z
LAST-MODIFIED:20210914T163440Z
UID:2900-1634232600-1634245200@twocanblue.com
SUMMARY:Twocan Blue @ Galuppi's
DESCRIPTION:
URL:https://twocanblue.com/event/twocan-blue-galuppis-43/
LOCATION:Galuppi’s on the Green\, Pompano Beach\, FL\, United States
ATTACH;FMTTYPE=image/jpeg:https://twocanblue.com/wp-content/uploads/2014/11/richie-theresa-600px.jpg
END:VEVENT
BEGIN:VEVENT
DTSTART;TZID=America/New_York:20211015T170000
DTEND;TZID=America/New_York:20211015T200000
DTSTAMP:20260422T143734
CREATED:20210914T163644Z
LAST-MODIFIED:20210914T163652Z
UID:2902-1634317200-1634328000@twocanblue.com
SUMMARY:Twocan Blue @ The Funky Biscuit
DESCRIPTION:
URL:https://twocanblue.com/event/twocan-blue-the-funky-biscuit-20/
LOCATION:The Funky Biscuit\, 303 SW Mizner Blvd\, Boca Raton\, FL\, 33432\, United States
ATTACH;FMTTYPE=image/jpeg:https://twocanblue.com/wp-content/uploads/2014/11/10881665_1529876507261483_4660710390013814205_n.jpg
END:VEVENT
BEGIN:VEVENT
DTSTART;TZID=America/New_York:20211018T190000
DTEND;TZID=America/New_York:20211018T190000
DTSTAMP:20260422T143734
CREATED:20211005T180251Z
LAST-MODIFIED:20211005T180300Z
UID:2916-1634583600-1634583600@twocanblue.com
SUMMARY:"Biscuit Jam" @ The Funky Biscuit
DESCRIPTION:Richie joins with the house band for the Monday night “Biscuit Jam”.  This weeks featured guest is Albert Castiglia.
URL:https://twocanblue.com/event/biscuit-jam-the-funky-biscuit-25/
LOCATION:The Funky Biscuit\, 303 SW Mizner Blvd\, Boca Raton\, FL\, 33432\, United States
ATTACH;FMTTYPE=image/jpeg:https://twocanblue.com/wp-content/uploads/2021/06/New-Biscuit-band-shot.jpg
END:VEVENT
BEGIN:VEVENT
DTSTART;TZID=America/New_York:20211021T173000
DTEND;TZID=America/New_York:20211021T210000
DTSTAMP:20260422T143734
CREATED:20210914T163943Z
LAST-MODIFIED:20210914T163951Z
UID:2904-1634837400-1634850000@twocanblue.com
SUMMARY:Twocan Blue @ Galuppi's
DESCRIPTION:
URL:https://twocanblue.com/event/twocan-blue-galuppis-44/
LOCATION:Galuppi’s on the Green\, Pompano Beach\, FL\, United States
ATTACH;FMTTYPE=image/jpeg:https://twocanblue.com/wp-content/uploads/2014/11/45257_611749848854757_441538827_n.jpg
END:VEVENT
BEGIN:VEVENT
DTSTART;TZID=America/New_York:20211022T170000
DTEND;TZID=America/New_York:20211022T200000
DTSTAMP:20260422T143734
CREATED:20210914T164226Z
LAST-MODIFIED:20210914T164234Z
UID:2906-1634922000-1634932800@twocanblue.com
SUMMARY:Twocan Blue @ The Funky Biscuit
DESCRIPTION:
URL:https://twocanblue.com/event/twocan-blue-the-funky-biscuit-21/
LOCATION:The Funky Biscuit\, 303 SW Mizner Blvd\, Boca Raton\, FL\, 33432\, United States
ATTACH;FMTTYPE=image/jpeg:https://twocanblue.com/wp-content/uploads/2014/11/image-1.jpg
END:VEVENT
BEGIN:VEVENT
DTSTART;TZID=America/New_York:20211025T190000
DTEND;TZID=America/New_York:20211025T190000
DTSTAMP:20260422T143734
CREATED:20211005T180454Z
LAST-MODIFIED:20211005T180502Z
UID:2918-1635188400-1635188400@twocanblue.com
SUMMARY:"Biscuit Jam" @ The Funky Biscuit
DESCRIPTION:Richie joins with the house band for the Monday night “Biscuit Jam”.  This weeks featured guest is Michael Tash.
URL:https://twocanblue.com/event/biscuit-jam-the-funky-biscuit-26/
LOCATION:The Funky Biscuit\, 303 SW Mizner Blvd\, Boca Raton\, FL\, 33432\, United States
ATTACH;FMTTYPE=image/jpeg:https://twocanblue.com/wp-content/uploads/2017/04/Steve-at-the-Biscuit.jpg
END:VEVENT
BEGIN:VEVENT
DTSTART;TZID=America/New_York:20211028T173000
DTEND;TZID=America/New_York:20211028T210000
DTSTAMP:20260422T143734
CREATED:20210914T164343Z
LAST-MODIFIED:20210914T164352Z
UID:2908-1635442200-1635454800@twocanblue.com
SUMMARY:Twocan Blue @ Galuppi's
DESCRIPTION:
URL:https://twocanblue.com/event/twocan-blue-galuppis-45/
LOCATION:Galuppi’s on the Green\, Pompano Beach\, FL\, United States
ATTACH;FMTTYPE=image/jpeg:https://twocanblue.com/wp-content/uploads/2019/06/20190103_163629-e1560002567171.jpg
END:VEVENT
BEGIN:VEVENT
DTSTART;TZID=America/New_York:20211029T170000
DTEND;TZID=America/New_York:20211029T200000
DTSTAMP:20260422T143734
CREATED:20210914T164517Z
LAST-MODIFIED:20210914T164525Z
UID:2910-1635526800-1635537600@twocanblue.com
SUMMARY:Twocan Blue @ The Funky Biscuit
DESCRIPTION:
URL:https://twocanblue.com/event/twocan-blue-the-funky-biscuit-22/
LOCATION:The Funky Biscuit\, 303 SW Mizner Blvd\, Boca Raton\, FL\, 33432\, United States
ATTACH;FMTTYPE=image/jpeg:https://twocanblue.com/wp-content/uploads/2017/04/Steve-at-the-Biscuit.jpg
END:VEVENT
END:VCALENDAR