BEGIN:VCALENDAR
VERSION:2.0
PRODID:-//Twocan Blue Musical Duo - ECPv6.14.2//NONSGML v1.0//EN
CALSCALE:GREGORIAN
METHOD:PUBLISH
X-ORIGINAL-URL:https://twocanblue.com
X-WR-CALDESC:Events for Twocan Blue Musical Duo
REFRESH-INTERVAL;VALUE=DURATION:PT1H
X-Robots-Tag:noindex
X-PUBLISHED-TTL:PT1H
BEGIN:VTIMEZONE
TZID:America/New_York
BEGIN:DAYLIGHT
TZOFFSETFROM:-0500
TZOFFSETTO:-0400
TZNAME:EDT
DTSTART:20220313T070000
END:DAYLIGHT
BEGIN:STANDARD
TZOFFSETFROM:-0400
TZOFFSETTO:-0500
TZNAME:EST
DTSTART:20221106T060000
END:STANDARD
END:VTIMEZONE
BEGIN:VEVENT
DTSTART;TZID=America/New_York:20220204T200000
DTEND;TZID=America/New_York:20220204T200000
DTSTAMP:20260423T035134
CREATED:20211230T155644Z
LAST-MODIFIED:20211230T155659Z
UID:2996-1644004800-1644004800@twocanblue.com
SUMMARY:"Brothers Again" @ King Center For The Performing Arts
DESCRIPTION:Richie joins with this celebration of the music of “The Allman Brothers Band”
URL:https://twocanblue.com/event/brothers-again-king-center-for-the-performing-arts/
LOCATION:King Center For The Performing Arts\, 3865 N. Wickham Rd.\, Melbourne\, FL\, 32935\, United States
ATTACH;FMTTYPE=image/jpeg:https://twocanblue.com/wp-content/uploads/2018/04/Richie-John-Garbarino-photog.jpg
END:VEVENT
BEGIN:VEVENT
DTSTART;TZID=America/New_York:20220207T190000
DTEND;TZID=America/New_York:20220207T190000
DTSTAMP:20260423T035134
CREATED:20220112T200134Z
LAST-MODIFIED:20220112T200303Z
UID:3005-1644260400-1644260400@twocanblue.com
SUMMARY:"Biscuit Jam" @ The Funky Biscuit
DESCRIPTION:Richie joins with the house band for the Monday night “Biscuit Jam”.  This week’s featured guest is Kevin Burt.
URL:https://twocanblue.com/event/biscuit-jam-the-funky-biscuit-38/
LOCATION:The Funky Biscuit\, 303 SW Mizner Blvd\, Boca Raton\, FL\, 33432\, United States
ATTACH;FMTTYPE=image/jpeg:https://twocanblue.com/wp-content/uploads/2017/04/Steve-at-the-Biscuit.jpg
END:VEVENT
BEGIN:VEVENT
DTSTART;TZID=America/New_York:20220210T173000
DTEND;TZID=America/New_York:20220210T210000
DTSTAMP:20260423T035134
CREATED:20220112T200424Z
LAST-MODIFIED:20220112T200433Z
UID:3007-1644514200-1644526800@twocanblue.com
SUMMARY:Twocan Blue @ Galuppi's
DESCRIPTION:
URL:https://twocanblue.com/event/twocan-blue-galuppis-55/
LOCATION:Galuppi’s on the Green\, Pompano Beach\, FL\, United States
ATTACH;FMTTYPE=image/jpeg:https://twocanblue.com/wp-content/uploads/2019/06/20190103_163606-e1560002717812.jpg
END:VEVENT
BEGIN:VEVENT
DTSTART;TZID=America/New_York:20220211T170000
DTEND;TZID=America/New_York:20220211T200000
DTSTAMP:20260423T035134
CREATED:20220112T200626Z
LAST-MODIFIED:20220112T200644Z
UID:3009-1644598800-1644609600@twocanblue.com
SUMMARY:Twocan Blue @ The Funky Biscuit
DESCRIPTION:
URL:https://twocanblue.com/event/twocan-blue-the-funky-biscuit-32/
LOCATION:The Funky Biscuit\, 303 SW Mizner Blvd\, Boca Raton\, FL\, 33432\, United States
ATTACH;FMTTYPE=image/jpeg:https://twocanblue.com/wp-content/uploads/2014/11/10881665_1529876507261483_4660710390013814205_n.jpg
END:VEVENT
BEGIN:VEVENT
DTSTART;TZID=America/New_York:20220213T110000
DTEND;TZID=America/New_York:20220213T123000
DTSTAMP:20260423T035134
CREATED:20211230T160352Z
LAST-MODIFIED:20211230T160402Z
UID:2999-1644750000-1644755400@twocanblue.com
SUMMARY:"The Fabulous Fleetwood's" @ The South Florida Garlic Fest
DESCRIPTION:“The Fabulous Fleetwood’s” make their annual appearance at “The South Florida Garlic Festival”
URL:https://twocanblue.com/event/the-fabulous-fleetwoods-the-south-florida-garlic-fest/
LOCATION:Village Park Athletics Complex\, 11700 Pierson Rd.\, Wellington\, FL\, United States
ATTACH;FMTTYPE=image/jpeg:https://twocanblue.com/wp-content/uploads/2017/08/FF@DBGF-2008.jpg
END:VEVENT
BEGIN:VEVENT
DTSTART;TZID=America/New_York:20220214T190000
DTEND;TZID=America/New_York:20220214T190000
DTSTAMP:20260423T035134
CREATED:20220112T201039Z
LAST-MODIFIED:20220112T201124Z
UID:3011-1644865200-1644865200@twocanblue.com
SUMMARY:"Biscuit Jam" @ The Funky Biscuit
DESCRIPTION:Richie joins with the house band for the Monday night “Biscuit Jam”.
URL:https://twocanblue.com/event/biscuit-jam-the-funky-biscuit-39/
LOCATION:The Funky Biscuit\, 303 SW Mizner Blvd\, Boca Raton\, FL\, 33432\, United States
ATTACH;FMTTYPE=image/jpeg:https://twocanblue.com/wp-content/uploads/2021/06/New-Biscuit-band-shot.jpg
END:VEVENT
BEGIN:VEVENT
DTSTART;TZID=America/New_York:20220217T173000
DTEND;TZID=America/New_York:20220217T210000
DTSTAMP:20260423T035134
CREATED:20220112T201301Z
LAST-MODIFIED:20220112T201311Z
UID:3013-1645119000-1645131600@twocanblue.com
SUMMARY:Twocan Blue @ Galuppi's
DESCRIPTION:
URL:https://twocanblue.com/event/twocan-blue-galuppis-56/
LOCATION:Galuppi’s on the Green\, Pompano Beach\, FL\, United States
ATTACH;FMTTYPE=image/jpeg:https://twocanblue.com/wp-content/uploads/2019/06/20190103_163629-e1560002567171.jpg
END:VEVENT
BEGIN:VEVENT
DTSTART;TZID=America/New_York:20220218T170000
DTEND;TZID=America/New_York:20220218T200000
DTSTAMP:20260423T035134
CREATED:20220112T201441Z
LAST-MODIFIED:20220112T201619Z
UID:3015-1645203600-1645214400@twocanblue.com
SUMMARY:Twocan Blue @ The Funky Biscuit
DESCRIPTION:
URL:https://twocanblue.com/event/twocan-blue-the-funky-biscuit-33/
LOCATION:The Funky Biscuit\, 303 SW Mizner Blvd\, Boca Raton\, FL\, 33432\, United States
ATTACH;FMTTYPE=image/jpeg:https://twocanblue.com/wp-content/uploads/2014/11/twocan-blue-at-kevros-art-bar.jpg
END:VEVENT
BEGIN:VEVENT
DTSTART;TZID=America/New_York:20220219T193000
DTEND;TZID=America/New_York:20220219T210000
DTSTAMP:20260423T035134
CREATED:20211230T161058Z
LAST-MODIFIED:20211230T161545Z
UID:3002-1645299000-1645304400@twocanblue.com
SUMMARY:"The Fabulous Fleetwood's" @ St. Coleman Italian Festival
DESCRIPTION:“The Fabulous Fleetwood’s” play on a Saturday night as part of the of the 3 day St. Coleman “Italian Festival” in Pompano Beach.
URL:https://twocanblue.com/event/the-fabulous-fleetwoods-st-coleman-italian-festival/
LOCATION:St. Coleman Catholic Church\, 1200 S. Fed. Hwy.\, Pompano Beach\, FL\, 33062\, United States
ATTACH;FMTTYPE=image/jpeg:https://twocanblue.com/wp-content/uploads/2018/06/BH0nStage.jpg
END:VEVENT
BEGIN:VEVENT
DTSTART;TZID=America/New_York:20220220T143000
DTEND;TZID=America/New_York:20220220T160000
DTSTAMP:20260423T035134
CREATED:20220129T180831Z
LAST-MODIFIED:20220129T180844Z
UID:3020-1645367400-1645372800@twocanblue.com
SUMMARY:"The Funky Biscuit Allstar's" @ St. Coleman Italian Festival
DESCRIPTION:The FBAS play for a Sunday afternoon at the St. Coleman Italian Festival in Pompano Beach.
URL:https://twocanblue.com/event/the-funky-biscuit-allstars-st-coleman-italian-festival/
LOCATION:St. Coleman Catholic Church\, 1200 S. Fed. Hwy.\, Pompano Beach\, FL\, 33062\, United States
ATTACH;FMTTYPE=image/jpeg:https://twocanblue.com/wp-content/uploads/2021/06/New-Biscuit-band-shot.jpg
END:VEVENT
BEGIN:VEVENT
DTSTART;TZID=America/New_York:20220227T170000
DTEND;TZID=America/New_York:20220227T200000
DTSTAMP:20260423T035134
CREATED:20220112T202550Z
LAST-MODIFIED:20220112T202602Z
UID:3018-1645981200-1645992000@twocanblue.com
SUMMARY:"The Fabulous Fleetwood's" @ Rudy's Pub
DESCRIPTION:
URL:https://twocanblue.com/event/the-fabulous-fleetwoods-rudys-pub/
LOCATION:Rudy’s\, Lake Worth\, FL
ATTACH;FMTTYPE=image/jpeg:https://twocanblue.com/wp-content/uploads/2018/06/BH0nStage.jpg
END:VEVENT
BEGIN:VEVENT
DTSTART;TZID=America/New_York:20220228T190000
DTEND;TZID=America/New_York:20220228T190000
DTSTAMP:20260423T035134
CREATED:20220129T181120Z
LAST-MODIFIED:20220129T181128Z
UID:3022-1646074800-1646074800@twocanblue.com
SUMMARY:"Biscuit Jam" @ The Funky Biscuit
DESCRIPTION:Richie joins with the house band for the Monday night “Biscuit Jam”.  This weeks guest artist is “Rockin’ Jake”
URL:https://twocanblue.com/event/biscuit-jam-the-funky-biscuit-40/
LOCATION:The Funky Biscuit\, 303 SW Mizner Blvd\, Boca Raton\, FL\, 33432\, United States
ATTACH;FMTTYPE=image/jpeg:https://twocanblue.com/wp-content/uploads/2017/04/Steve-at-the-Biscuit.jpg
END:VEVENT
END:VCALENDAR