BEGIN:VCALENDAR
VERSION:2.0
PRODID:-//Twocan Blue Musical Duo - ECPv6.14.2//NONSGML v1.0//EN
CALSCALE:GREGORIAN
METHOD:PUBLISH
X-ORIGINAL-URL:https://twocanblue.com
X-WR-CALDESC:Events for Twocan Blue Musical Duo
REFRESH-INTERVAL;VALUE=DURATION:PT1H
X-Robots-Tag:noindex
X-PUBLISHED-TTL:PT1H
BEGIN:VTIMEZONE
TZID:America/New_York
BEGIN:DAYLIGHT
TZOFFSETFROM:-0500
TZOFFSETTO:-0400
TZNAME:EDT
DTSTART:20220313T070000
END:DAYLIGHT
BEGIN:STANDARD
TZOFFSETFROM:-0400
TZOFFSETTO:-0500
TZNAME:EST
DTSTART:20221106T060000
END:STANDARD
END:VTIMEZONE
BEGIN:VEVENT
DTSTART;TZID=America/New_York:20220805T170000
DTEND;TZID=America/New_York:20220805T200000
DTSTAMP:20260422T170931
CREATED:20220711T170112Z
LAST-MODIFIED:20220711T170119Z
UID:3148-1659718800-1659729600@twocanblue.com
SUMMARY:Twocan Blue @ The Funky Biscuit
DESCRIPTION:
URL:https://twocanblue.com/event/twocan-blue-the-funky-biscuit-50/
LOCATION:The Funky Biscuit\, 303 SW Mizner Blvd\, Boca Raton\, FL\, 33432\, United States
ATTACH;FMTTYPE=image/jpeg:https://twocanblue.com/wp-content/uploads/2014/11/twocan-blue-funky-biscuit-22.jpg
END:VEVENT
BEGIN:VEVENT
DTSTART;TZID=America/New_York:20220807T170000
DTEND;TZID=America/New_York:20220807T200000
DTSTAMP:20260422T170931
CREATED:20220711T170306Z
LAST-MODIFIED:20220711T170730Z
UID:3150-1659891600-1659902400@twocanblue.com
SUMMARY:Twocan Blue @ Rudy's
DESCRIPTION:
URL:https://twocanblue.com/event/twocan-blue-rudys-4/
LOCATION:Rudy’s\, Lake Worth\, FL
ATTACH;FMTTYPE=image/jpeg:https://twocanblue.com/wp-content/uploads/2014/11/10881665_1529876507261483_4660710390013814205_n.jpg
END:VEVENT
BEGIN:VEVENT
DTSTART;TZID=America/New_York:20220808T190000
DTEND;TZID=America/New_York:20220808T190000
DTSTAMP:20260422T170931
CREATED:20220711T171127Z
LAST-MODIFIED:20220711T171135Z
UID:3152-1659985200-1659985200@twocanblue.com
SUMMARY:Biscuit Jam @ The Funky Biscuit
DESCRIPTION:Richie joins with the house band for the Monday night “Biscuit Jam”
URL:https://twocanblue.com/event/biscuit-jam-the-funky-biscuit-59/
LOCATION:The Funky Biscuit\, 303 SW Mizner Blvd\, Boca Raton\, FL\, 33432\, United States
ATTACH;FMTTYPE=image/jpeg:https://twocanblue.com/wp-content/uploads/2021/06/New-Biscuit-band-shot.jpg
END:VEVENT
BEGIN:VEVENT
DTSTART;TZID=America/New_York:20220811T193000
DTEND;TZID=America/New_York:20220811T223000
DTSTAMP:20260422T170931
CREATED:20220711T171521Z
LAST-MODIFIED:20220711T173536Z
UID:3154-1660246200-1660257000@twocanblue.com
SUMMARY:Twocan Blue @ Tim Finnegan's
DESCRIPTION:
URL:https://twocanblue.com/event/twocan-blue-tim-finnegans/
LOCATION:Tim Finnegan’s\, 2885 S. Fed. Hwy.\, Delray Beach\, FL\, 33483
ATTACH;FMTTYPE=image/jpeg:https://twocanblue.com/wp-content/uploads/2014/11/richie-theresa-600px.jpg
END:VEVENT
BEGIN:VEVENT
DTSTART;TZID=America/New_York:20220812T170000
DTEND;TZID=America/New_York:20220812T200000
DTSTAMP:20260422T170931
CREATED:20220711T173658Z
LAST-MODIFIED:20220711T173707Z
UID:3157-1660323600-1660334400@twocanblue.com
SUMMARY:Twocan Blue @ The Funky Biscuit
DESCRIPTION:
URL:https://twocanblue.com/event/twocan-blue-the-funky-biscuit-51/
LOCATION:The Funky Biscuit\, 303 SW Mizner Blvd\, Boca Raton\, FL\, 33432\, United States
ATTACH;FMTTYPE=image/jpeg:https://twocanblue.com/wp-content/uploads/2014/11/twocan-richie-guiter.jpg
END:VEVENT
BEGIN:VEVENT
DTSTART;TZID=America/New_York:20220813T190000
DTEND;TZID=America/New_York:20220813T190000
DTSTAMP:20260422T170931
CREATED:20220624T181836Z
LAST-MODIFIED:20220624T181844Z
UID:3146-1660417200-1660417200@twocanblue.com
SUMMARY:"Old Boca Fest" @ The Funky Biscuit
DESCRIPTION:The annual celebration of long time friends and the music and good times of the past\, featuring “The Fabulous Fleetwood’s” and “The Buster Leggs Band”
URL:https://twocanblue.com/event/old-boca-fest-the-funky-biscuit-2/
LOCATION:The Funky Biscuit\, 303 SW Mizner Blvd\, Boca Raton\, FL\, 33432\, United States
END:VEVENT
BEGIN:VEVENT
DTSTART;TZID=America/New_York:20220815T190000
DTEND;TZID=America/New_York:20220815T190000
DTSTAMP:20260422T170931
CREATED:20220711T173925Z
LAST-MODIFIED:20220711T173933Z
UID:3159-1660590000-1660590000@twocanblue.com
SUMMARY:"Biscuit Jam" @ The Funky Biscuit
DESCRIPTION:Richie joins with the house band for the Monday night “Biscuit Jam”
URL:https://twocanblue.com/event/biscuit-jam-the-funky-biscuit-60/
LOCATION:The Funky Biscuit\, 303 SW Mizner Blvd\, Boca Raton\, FL\, 33432\, United States
ATTACH;FMTTYPE=image/jpeg:https://twocanblue.com/wp-content/uploads/2018/04/Richie-w-Strat.jpg
END:VEVENT
BEGIN:VEVENT
DTSTART;TZID=America/New_York:20220817T190000
DTEND;TZID=America/New_York:20220817T220000
DTSTAMP:20260422T170931
CREATED:20220714T164233Z
LAST-MODIFIED:20220714T164246Z
UID:3172-1660762800-1660773600@twocanblue.com
SUMMARY:Twocan Blue @ Blue Jean Blues
DESCRIPTION:
URL:https://twocanblue.com/event/twocan-blue-blue-jean-blues/
LOCATION:Blue Jean Blues\, Ft. Lauderdale\, FL\, United States
ATTACH;FMTTYPE=image/jpeg:https://twocanblue.com/wp-content/uploads/2017/12/BJB-neon.jpg
END:VEVENT
BEGIN:VEVENT
DTSTART;TZID=America/New_York:20220819T170000
DTEND;TZID=America/New_York:20220819T200000
DTSTAMP:20260422T170931
CREATED:20220711T174049Z
LAST-MODIFIED:20220711T174056Z
UID:3161-1660928400-1660939200@twocanblue.com
SUMMARY:Twocan Blue @ The Funky Biscuit
DESCRIPTION:
URL:https://twocanblue.com/event/twocan-blue-the-funky-biscuit-52/
LOCATION:The Funky Biscuit\, 303 SW Mizner Blvd\, Boca Raton\, FL\, 33432\, United States
ATTACH;FMTTYPE=image/jpeg:https://twocanblue.com/wp-content/uploads/2014/11/twocan-blue-funky-biscuit-22.jpg
END:VEVENT
BEGIN:VEVENT
DTSTART;TZID=America/New_York:20220822T190000
DTEND;TZID=America/New_York:20220822T190000
DTSTAMP:20260422T170931
CREATED:20220711T174251Z
LAST-MODIFIED:20220818T192646Z
UID:3163-1661194800-1661194800@twocanblue.com
SUMMARY:"Biscuit Jam" @ The Funky Biscuit
DESCRIPTION:Richie joins with the house band for the Monday night “Biscuit Jam”.  This week’s featured guest is Jimi Fiano.
URL:https://twocanblue.com/event/biscuit-jam-the-funky-biscuit-61/
LOCATION:The Funky Biscuit\, 303 SW Mizner Blvd\, Boca Raton\, FL\, 33432\, United States
ATTACH;FMTTYPE=image/jpeg:https://twocanblue.com/wp-content/uploads/2017/04/Steve-at-the-Biscuit.jpg
END:VEVENT
BEGIN:VEVENT
DTSTART;TZID=America/New_York:20220823T190000
DTEND;TZID=America/New_York:20220823T190000
DTSTAMP:20260422T170931
CREATED:20220818T191628Z
LAST-MODIFIED:20220818T191628Z
UID:3218-1661281200-1661281200@twocanblue.com
SUMMARY:The Fabulous Fleetwood's @ The Funky Biscuit
DESCRIPTION:A doubly “fabulous” night as the FF open up for “The Fabulous Thunderbirds”
URL:https://twocanblue.com/event/the-fabulous-fleetwoods-the-funky-biscuit-4/
LOCATION:The Funky Biscuit\, 303 SW Mizner Blvd\, Boca Raton\, FL\, 33432\, United States
ATTACH;FMTTYPE=image/jpeg:https://twocanblue.com/wp-content/uploads/2018/06/BH0nStage.jpg
END:VEVENT
BEGIN:VEVENT
DTSTART;TZID=America/New_York:20220824T190000
DTEND;TZID=America/New_York:20220824T220000
DTSTAMP:20260422T170931
CREATED:20220714T164621Z
LAST-MODIFIED:20220714T164634Z
UID:3174-1661367600-1661378400@twocanblue.com
SUMMARY:Twocan Blue @ Blue Jean Blues
DESCRIPTION:
URL:https://twocanblue.com/event/twocan-blue-blue-jean-blues-2/
LOCATION:Blue Jean Blues\, Ft. Lauderdale\, FL\, United States
ATTACH;FMTTYPE=image/jpeg:https://twocanblue.com/wp-content/uploads/2017/12/BJB-neon.jpg
END:VEVENT
BEGIN:VEVENT
DTSTART;TZID=America/New_York:20220825T193000
DTEND;TZID=America/New_York:20220825T223000
DTSTAMP:20260422T170931
CREATED:20220711T174742Z
LAST-MODIFIED:20220711T174750Z
UID:3166-1661455800-1661466600@twocanblue.com
SUMMARY:Twocan Blue @ Tim Finnegan's
DESCRIPTION:
URL:https://twocanblue.com/event/twocan-blue-tim-finnegans-2/
LOCATION:Tim Finnegan’s\, 2885 S. Fed. Hwy.\, Delray Beach\, FL\, 33483
ATTACH;FMTTYPE=image/jpeg:https://twocanblue.com/wp-content/uploads/2014/11/image-1.jpg
END:VEVENT
BEGIN:VEVENT
DTSTART;TZID=America/New_York:20220826T170000
DTEND;TZID=America/New_York:20220826T200000
DTSTAMP:20260422T170931
CREATED:20220711T174907Z
LAST-MODIFIED:20220711T174916Z
UID:3168-1661533200-1661544000@twocanblue.com
SUMMARY:Twocan Blue @ The Funky Biscuit
DESCRIPTION:
URL:https://twocanblue.com/event/twocan-blue-the-funky-biscuit-53/
LOCATION:The Funky Biscuit\, 303 SW Mizner Blvd\, Boca Raton\, FL\, 33432\, United States
ATTACH;FMTTYPE=image/jpeg:https://twocanblue.com/wp-content/uploads/2014/11/twocan-blue-aruba.jpg
END:VEVENT
BEGIN:VEVENT
DTSTART;TZID=America/New_York:20220829T190000
DTEND;TZID=America/New_York:20220829T190000
DTSTAMP:20260422T170931
CREATED:20220711T175141Z
LAST-MODIFIED:20220818T192120Z
UID:3170-1661799600-1661799600@twocanblue.com
SUMMARY:"Biscuit Jam" @ The Funky Biscuit
DESCRIPTION:Richie joins with the house band for the Monday night “Biscuit Jam”.  This week’s featured guest is Josh Rowand.
URL:https://twocanblue.com/event/biscuit-jam-the-funky-biscuit-62/
LOCATION:The Funky Biscuit\, 303 SW Mizner Blvd\, Boca Raton\, FL\, 33432\, United States
ATTACH;FMTTYPE=image/jpeg:https://twocanblue.com/wp-content/uploads/2021/06/New-Biscuit-band-shot.jpg
END:VEVENT
END:VCALENDAR