BEGIN:VCALENDAR
VERSION:2.0
PRODID:-//Twocan Blue Musical Duo - ECPv6.14.2//NONSGML v1.0//EN
CALSCALE:GREGORIAN
METHOD:PUBLISH
X-ORIGINAL-URL:https://twocanblue.com
X-WR-CALDESC:Events for Twocan Blue Musical Duo
REFRESH-INTERVAL;VALUE=DURATION:PT1H
X-Robots-Tag:noindex
X-PUBLISHED-TTL:PT1H
BEGIN:VTIMEZONE
TZID:America/New_York
BEGIN:DAYLIGHT
TZOFFSETFROM:-0500
TZOFFSETTO:-0400
TZNAME:EDT
DTSTART:20220313T070000
END:DAYLIGHT
BEGIN:STANDARD
TZOFFSETFROM:-0400
TZOFFSETTO:-0500
TZNAME:EST
DTSTART:20221106T060000
END:STANDARD
END:VTIMEZONE
BEGIN:VEVENT
DTSTART;TZID=America/New_York:20221121T190000
DTEND;TZID=America/New_York:20221121T190000
DTSTAMP:20260422T095152
CREATED:20221114T180123Z
LAST-MODIFIED:20221114T181407Z
UID:3257-1669057200-1669057200@twocanblue.com
SUMMARY:"Biscuit Jam" @ The Funky Biscuit
DESCRIPTION:Richie joins with the house band for the Monday night “Biscuit Jam”.  This week’s featured guest is David Julia.
URL:https://twocanblue.com/event/biscuit-jam-the-funky-biscuit-68/
LOCATION:The Funky Biscuit\, 303 SW Mizner Blvd\, Boca Raton\, FL\, 33432\, United States
ATTACH;FMTTYPE=image/jpeg:https://twocanblue.com/wp-content/uploads/2022/09/20220823_1655341-scaled.jpg
END:VEVENT
BEGIN:VEVENT
DTSTART;TZID=America/New_York:20221126T200000
DTEND;TZID=America/New_York:20221126T200000
DTSTAMP:20260422T095152
CREATED:20221114T181328Z
LAST-MODIFIED:20221114T181339Z
UID:3259-1669492800-1669492800@twocanblue.com
SUMMARY:"Celebrating The Last Waltz"
DESCRIPTION:Along with a host of friends we’ll be celebrating the songs of “The Band” (and others)\, playing songs that were part of their famous farewell concert from 1975.
URL:https://twocanblue.com/event/celebrating-the-last-waltz/
LOCATION:The Funky Biscuit\, 303 SW Mizner Blvd\, Boca Raton\, FL\, 33432\, United States
ATTACH;FMTTYPE=image/jpeg:https://twocanblue.com/wp-content/uploads/2022/11/2022_11_26_The-Last-Waltz-1080x1080-1.jpg
END:VEVENT
BEGIN:VEVENT
DTSTART;TZID=America/New_York:20221128T190000
DTEND;TZID=America/New_York:20221128T190000
DTSTAMP:20260422T095152
CREATED:20221114T181714Z
LAST-MODIFIED:20221114T190850Z
UID:3262-1669662000-1669662000@twocanblue.com
SUMMARY:"Biscuit Jam" @ The Funky Biscuit
DESCRIPTION:Richie joins with the house band for the Monday night “biscuit Jam”.  This week’s featured guest artist is Steve Laudicina
URL:https://twocanblue.com/event/biscuit-jam-the-funky-biscuit-69/
LOCATION:The Funky Biscuit\, 303 SW Mizner Blvd\, Boca Raton\, FL\, 33432\, United States
ATTACH;FMTTYPE=image/jpeg:https://twocanblue.com/wp-content/uploads/2018/04/Richie-w-Strat.jpg
END:VEVENT
END:VCALENDAR