BEGIN:VCALENDAR
VERSION:2.0
PRODID:-//Twocan Blue Musical Duo - ECPv6.14.2//NONSGML v1.0//EN
CALSCALE:GREGORIAN
METHOD:PUBLISH
X-ORIGINAL-URL:https://twocanblue.com
X-WR-CALDESC:Events for Twocan Blue Musical Duo
REFRESH-INTERVAL;VALUE=DURATION:PT1H
X-Robots-Tag:noindex
X-PUBLISHED-TTL:PT1H
BEGIN:VTIMEZONE
TZID:America/New_York
BEGIN:DAYLIGHT
TZOFFSETFROM:-0500
TZOFFSETTO:-0400
TZNAME:EDT
DTSTART:20230312T070000
END:DAYLIGHT
BEGIN:STANDARD
TZOFFSETFROM:-0400
TZOFFSETTO:-0500
TZNAME:EST
DTSTART:20231105T060000
END:STANDARD
END:VTIMEZONE
BEGIN:VEVENT
DTSTART;TZID=America/New_York:20230203T170000
DTEND;TZID=America/New_York:20230203T200000
DTSTAMP:20260422T044831
CREATED:20230123T175202Z
LAST-MODIFIED:20230123T175348Z
UID:3357-1675443600-1675454400@twocanblue.com
SUMMARY:Twocan Blue @ The Funky Biscuit
DESCRIPTION:
URL:https://twocanblue.com/event/twocan-blue-the-funky-biscuit-66/
LOCATION:The Funky Biscuit\, 303 SW Mizner Blvd\, Boca Raton\, FL\, 33432\, United States
ATTACH;FMTTYPE=image/jpeg:https://twocanblue.com/wp-content/uploads/2014/11/twocan-blue-funky-biscuit-2.jpg
END:VEVENT
BEGIN:VEVENT
DTSTART;TZID=America/New_York:20230206T190000
DTEND;TZID=America/New_York:20230206T190000
DTSTAMP:20260422T044831
CREATED:20230123T173545Z
LAST-MODIFIED:20230123T173555Z
UID:3339-1675710000-1675710000@twocanblue.com
SUMMARY:"Biscuit Jam" @ The Funky Biscuit
DESCRIPTION:Richie joins with the house band for the Monday night “Biscuit Jam.  This week’s featured guest artist is Eric Demmer
URL:https://twocanblue.com/event/biscuit-jam-the-funky-biscuit-78/
LOCATION:The Funky Biscuit\, 303 SW Mizner Blvd\, Boca Raton\, FL\, 33432\, United States
ATTACH;FMTTYPE=image/jpeg:https://twocanblue.com/wp-content/uploads/2022/09/20220823_1655341-scaled.jpg
END:VEVENT
BEGIN:VEVENT
DTSTART;TZID=America/New_York:20230207T170000
DTEND;TZID=America/New_York:20230207T200000
DTSTAMP:20260422T044831
CREATED:20230123T174327Z
LAST-MODIFIED:20230123T174336Z
UID:3347-1675789200-1675800000@twocanblue.com
SUMMARY:Twocan Blue @ Galuppi's
DESCRIPTION:
URL:https://twocanblue.com/event/twocan-blue-galuppis-78/
LOCATION:Galuppi’s on the Green\, Pompano Beach\, FL\, United States
ATTACH;FMTTYPE=image/jpeg:https://twocanblue.com/wp-content/uploads/2019/06/20190103_163606-e1560002717812.jpg
END:VEVENT
BEGIN:VEVENT
DTSTART;TZID=America/New_York:20230209T193000
DTEND;TZID=America/New_York:20230209T223000
DTSTAMP:20260422T044831
CREATED:20230123T175000Z
LAST-MODIFIED:20230123T175018Z
UID:3355-1675971000-1675981800@twocanblue.com
SUMMARY:Twocan Blue @ Tim Finnegans
DESCRIPTION:
URL:https://twocanblue.com/event/twocan-blue-tim-finnegans-7/
LOCATION:Tim Finnegan’s\, 2885 S. Fed. Hwy.\, Delray Beach\, FL\, 33483
ATTACH;FMTTYPE=image/jpeg:https://twocanblue.com/wp-content/uploads/2014/11/image-1.jpg
END:VEVENT
BEGIN:VEVENT
DTSTART;TZID=America/New_York:20230210T170000
DTEND;TZID=America/New_York:20230210T190000
DTSTAMP:20260422T044831
CREATED:20230123T175535Z
LAST-MODIFIED:20230123T175545Z
UID:3359-1676048400-1676055600@twocanblue.com
SUMMARY:Twocan Blue @ The Funky Biscuit
DESCRIPTION:
URL:https://twocanblue.com/event/twocan-blue-the-funky-biscuit-67/
LOCATION:The Funky Biscuit\, 303 SW Mizner Blvd\, Boca Raton\, FL\, 33432\, United States
ATTACH;FMTTYPE=image/png:https://twocanblue.com/wp-content/uploads/2021/01/TCB-twocan-logo-560.png
END:VEVENT
BEGIN:VEVENT
DTSTART;TZID=America/New_York:20230213T190000
DTEND;TZID=America/New_York:20230213T190000
DTSTAMP:20260422T044831
CREATED:20230123T173732Z
LAST-MODIFIED:20230123T173741Z
UID:3341-1676314800-1676314800@twocanblue.com
SUMMARY:"Biscuit Jam" @ The Funky Biscuit
DESCRIPTION:Richie joins with the house band for the Monday night “Biscuit Jam.  This week’s featured guest artist is Matthew Curry
URL:https://twocanblue.com/event/biscuit-jam-the-funky-biscuit-79/
LOCATION:The Funky Biscuit\, 303 SW Mizner Blvd\, Boca Raton\, FL\, 33432\, United States
ATTACH;FMTTYPE=image/jpeg:https://twocanblue.com/wp-content/uploads/2018/04/Richie-w-Strat.jpg
END:VEVENT
BEGIN:VEVENT
DTSTART;TZID=America/New_York:20230214T170000
DTEND;TZID=America/New_York:20230214T200000
DTSTAMP:20260422T044831
CREATED:20230123T174452Z
LAST-MODIFIED:20230123T174452Z
UID:3349-1676394000-1676404800@twocanblue.com
SUMMARY:Twocan Blue @ Galuppi's
DESCRIPTION:
URL:https://twocanblue.com/event/twocan-blue-galuppis-79/
LOCATION:Galuppi’s on the Green\, Pompano Beach\, FL\, United States
ATTACH;FMTTYPE=image/jpeg:https://twocanblue.com/wp-content/uploads/2019/06/20190103_163629-e1560002567171.jpg
END:VEVENT
BEGIN:VEVENT
DTSTART;TZID=America/New_York:20230216T000000
DTEND;TZID=America/New_York:20230216T000000
DTSTAMP:20260422T044831
CREATED:20230212T154812Z
LAST-MODIFIED:20230212T154852Z
UID:3384-1676505600-1676505600@twocanblue.com
SUMMARY:@ Double Roads - Jupiter
DESCRIPTION:Richie joins with Jay Stollman\, Bob Taylor and other friends for an evening of tunes at the new “Double Roads”.  Time TBA
URL:https://twocanblue.com/event/double-roads-jupiter/
LOCATION:Double Roads\, 103 US 1 Suite 1A\, Jupiter\, FL
ATTACH;FMTTYPE=image/jpeg:https://twocanblue.com/wp-content/uploads/2018/04/Richie-John-Garbarino-photog.jpg
END:VEVENT
BEGIN:VEVENT
DTSTART;TZID=America/New_York:20230217T170000
DTEND;TZID=America/New_York:20230217T200000
DTSTAMP:20260422T044831
CREATED:20230123T175721Z
LAST-MODIFIED:20230209T165730Z
UID:3361-1676653200-1676664000@twocanblue.com
SUMMARY:Twocan Blue @ Funky Biscuit
DESCRIPTION:
URL:https://twocanblue.com/event/twocan-blue-funky-biscuit-13/
LOCATION:The Funky Biscuit\, 303 SW Mizner Blvd\, Boca Raton\, FL\, 33432\, United States
ATTACH;FMTTYPE=image/jpeg:https://twocanblue.com/wp-content/uploads/2022/09/20220823_1656141-scaled.jpg
END:VEVENT
BEGIN:VEVENT
DTSTART;TZID=America/New_York:20230218T180000
DTEND;TZID=America/New_York:20230218T210000
DTSTAMP:20260422T044831
CREATED:20230209T161156Z
LAST-MODIFIED:20230209T161207Z
UID:3366-1676743200-1676754000@twocanblue.com
SUMMARY:Twocan Blue & Jimmy Sandy too!
DESCRIPTION:Richie and Tess join with Jimmy Sandy for an evening of tunes\, tastes and tonics.
URL:https://twocanblue.com/event/twocan-blue-jimmy-sandy-too/
LOCATION:Boca Hideaway\, 2901 N. Fed. Hwy.\, Boca Raton\, FL
ATTACH;FMTTYPE=image/png:https://twocanblue.com/wp-content/uploads/2014/11/TCB-twocan-logo-351x141-e1416282732659.png
END:VEVENT
BEGIN:VEVENT
DTSTART;TZID=America/New_York:20230220T190000
DTEND;TZID=America/New_York:20230220T190000
DTSTAMP:20260422T044831
CREATED:20230123T173920Z
LAST-MODIFIED:20230123T173934Z
UID:3343-1676919600-1676919600@twocanblue.com
SUMMARY:"Biscuit Jam" @ The Funky Biscuit
DESCRIPTION:Richie joins with the house band for the Monday night “Biscuit Jam.  This week’s featured guest artist is “Lower Case Blues”
URL:https://twocanblue.com/event/biscuit-jam-the-funky-biscuit-80/
LOCATION:The Funky Biscuit\, 303 SW Mizner Blvd\, Boca Raton\, FL\, 33432\, United States
ATTACH;FMTTYPE=image/jpeg:https://twocanblue.com/wp-content/uploads/2017/04/Steve-at-the-Biscuit.jpg
END:VEVENT
BEGIN:VEVENT
DTSTART;TZID=America/New_York:20230221T170000
DTEND;TZID=America/New_York:20230221T190000
DTSTAMP:20260422T044831
CREATED:20230123T174604Z
LAST-MODIFIED:20230123T174618Z
UID:3351-1676998800-1677006000@twocanblue.com
SUMMARY:Twocan Blue @ Galuppi's
DESCRIPTION:
URL:https://twocanblue.com/event/twocan-blue-galuppis-80/
LOCATION:Galuppi’s on the Green\, Pompano Beach\, FL\, United States
ATTACH;FMTTYPE=image/jpeg:https://twocanblue.com/wp-content/uploads/2014/11/richie-theresa-600px.jpg
END:VEVENT
BEGIN:VEVENT
DTSTART;TZID=America/New_York:20230224T170000
DTEND;TZID=America/New_York:20230224T190000
DTSTAMP:20260422T044831
CREATED:20230123T175841Z
LAST-MODIFIED:20230123T175851Z
UID:3363-1677258000-1677265200@twocanblue.com
SUMMARY:Twocan Blue @ Funky Biscuit
DESCRIPTION:
URL:https://twocanblue.com/event/twocan-blue-funky-biscuit-14/
LOCATION:The Funky Biscuit\, 303 SW Mizner Blvd\, Boca Raton\, FL\, 33432\, United States
ATTACH;FMTTYPE=image/jpeg:https://twocanblue.com/wp-content/uploads/2014/11/twocan-blue-funky-biscuit.jpg
END:VEVENT
BEGIN:VEVENT
DTSTART;TZID=America/New_York:20230227T190000
DTEND;TZID=America/New_York:20230227T190000
DTSTAMP:20260422T044831
CREATED:20230123T174140Z
LAST-MODIFIED:20230123T174152Z
UID:3345-1677524400-1677524400@twocanblue.com
SUMMARY:"Biscuit Jam" @ The Funky Biscuit
DESCRIPTION:Richie joins with the house band for the Monday night “Biscuit Jam.  This week’s featured guest artist is Rachelle Coba.
URL:https://twocanblue.com/event/biscuit-jam-the-funky-biscuit-81/
LOCATION:The Funky Biscuit\, 303 SW Mizner Blvd\, Boca Raton\, FL\, 33432\, United States
ATTACH;FMTTYPE=image/jpeg:https://twocanblue.com/wp-content/uploads/2018/04/Richie-John-Garbarino-photog.jpg
END:VEVENT
BEGIN:VEVENT
DTSTART;TZID=America/New_York:20230228T170000
DTEND;TZID=America/New_York:20230228T200000
DTSTAMP:20260422T044831
CREATED:20230123T174728Z
LAST-MODIFIED:20230123T174747Z
UID:3353-1677603600-1677614400@twocanblue.com
SUMMARY:Twocan Blue @ Galuppi's
DESCRIPTION:
URL:https://twocanblue.com/event/twocan-blue-galuppis-81/
LOCATION:Galuppi’s on the Green\, Pompano Beach\, FL\, United States
ATTACH;FMTTYPE=image/jpeg:https://twocanblue.com/wp-content/uploads/2014/11/45257_611749848854757_441538827_n.jpg
END:VEVENT
END:VCALENDAR