BEGIN:VCALENDAR
VERSION:2.0
PRODID:-//Twocan Blue Musical Duo - ECPv6.14.2//NONSGML v1.0//EN
CALSCALE:GREGORIAN
METHOD:PUBLISH
X-WR-CALNAME:Twocan Blue Musical Duo
X-ORIGINAL-URL:https://twocanblue.com
X-WR-CALDESC:Events for Twocan Blue Musical Duo
REFRESH-INTERVAL;VALUE=DURATION:PT1H
X-Robots-Tag:noindex
X-PUBLISHED-TTL:PT1H
BEGIN:VTIMEZONE
TZID:America/New_York
BEGIN:DAYLIGHT
TZOFFSETFROM:-0500
TZOFFSETTO:-0400
TZNAME:EDT
DTSTART:20230312T070000
END:DAYLIGHT
BEGIN:STANDARD
TZOFFSETFROM:-0400
TZOFFSETTO:-0500
TZNAME:EST
DTSTART:20231105T060000
END:STANDARD
END:VTIMEZONE
BEGIN:VEVENT
DTSTART;TZID=America/New_York:20230303T170000
DTEND;TZID=America/New_York:20230303T200000
DTSTAMP:20260421T225507
CREATED:20230209T161602Z
LAST-MODIFIED:20230209T161636Z
UID:3370-1677862800-1677873600@twocanblue.com
SUMMARY:Twocan Blue @ The Funky Biscuit
DESCRIPTION:
URL:https://twocanblue.com/event/twocan-blue-the-funky-biscuit-68/
LOCATION:The Funky Biscuit\, 303 SW Mizner Blvd\, Boca Raton\, FL\, 33432\, United States
ATTACH;FMTTYPE=image/jpeg:https://twocanblue.com/wp-content/uploads/2022/09/20220823_1655341-scaled.jpg
END:VEVENT
BEGIN:VEVENT
DTSTART;TZID=America/New_York:20230306T190000
DTEND;TZID=America/New_York:20230306T190000
DTSTAMP:20260421T225507
CREATED:20230209T161901Z
LAST-MODIFIED:20230209T161912Z
UID:3372-1678129200-1678129200@twocanblue.com
SUMMARY:Biscuit Jam @ The Funky Biscuit
DESCRIPTION:Richie joins with the house band for the Monday night “Biscuit Jam”
URL:https://twocanblue.com/event/biscuit-jam-the-funky-biscuit-82/
LOCATION:The Funky Biscuit\, 303 SW Mizner Blvd\, Boca Raton\, FL\, 33432\, United States
ATTACH;FMTTYPE=image/jpeg:https://twocanblue.com/wp-content/uploads/2021/06/New-Biscuit-band-shot.jpg
END:VEVENT
BEGIN:VEVENT
DTSTART;TZID=America/New_York:20230307T170000
DTEND;TZID=America/New_York:20230307T200000
DTSTAMP:20260421T225507
CREATED:20230209T164253Z
LAST-MODIFIED:20230209T164302Z
UID:3374-1678208400-1678219200@twocanblue.com
SUMMARY:Twocan Blue @ Galuppi's
DESCRIPTION:
URL:https://twocanblue.com/event/twocan-blue-galuppis-82/
LOCATION:Galuppi’s on the Green\, Pompano Beach\, FL\, United States
ATTACH;FMTTYPE=image/jpeg:https://twocanblue.com/wp-content/uploads/2019/06/20190103_163629-e1560002567171.jpg
END:VEVENT
BEGIN:VEVENT
DTSTART;TZID=America/New_York:20230310T170000
DTEND;TZID=America/New_York:20230310T200000
DTSTAMP:20260421T225507
CREATED:20230209T164424Z
LAST-MODIFIED:20230209T164457Z
UID:3376-1678467600-1678478400@twocanblue.com
SUMMARY:Twocan Blue @ The Funky Biscuit
DESCRIPTION:
URL:https://twocanblue.com/event/twocan-blue-the-funky-biscuit-69/
LOCATION:The Funky Biscuit\, 303 SW Mizner Blvd\, Boca Raton\, FL\, 33432\, United States
ATTACH;FMTTYPE=image/jpeg:https://twocanblue.com/wp-content/uploads/2014/11/twocan-blue-funky-biscuit-2.jpg
END:VEVENT
BEGIN:VEVENT
DTSTART;TZID=America/New_York:20230311T200000
DTEND;TZID=America/New_York:20230311T200000
DTSTAMP:20260421T225507
CREATED:20230310T191932Z
LAST-MODIFIED:20230310T191946Z
UID:3393-1678564800-1678564800@twocanblue.com
SUMMARY:Twocan Blue & Jimmy Sandy too! @ Johnny's Cocktails
DESCRIPTION:Richie & Tess are joined by Jimmy Sandy\, talented musician from Alaska’s “Denali Cooks” band.  Poolside at “Johnny’s Cocktails”.
URL:https://twocanblue.com/event/twocan-blue-jimmy-sandy-too-johnnys-cocktails/
LOCATION:Johnny’s Cocktails – Poolside @ The Deerfield Beach Oceanside Comfort Inn\, 50 S. Ocean Dr.\, Deerfield Beach\, FL\, United States
ATTACH;FMTTYPE=image/png:https://twocanblue.com/wp-content/uploads/2014/11/TCB-twocan-logo-351x141-e1416282732659.png
END:VEVENT
BEGIN:VEVENT
DTSTART;TZID=America/New_York:20230313T190000
DTEND;TZID=America/New_York:20230313T190000
DTSTAMP:20260421T225507
CREATED:20230209T164710Z
LAST-MODIFIED:20230311T155334Z
UID:3378-1678734000-1678734000@twocanblue.com
SUMMARY:"Biscuit Jam" @ The Funky Biscuit
DESCRIPTION:Richie joins with the house band for the Monday night “Biscuit Jam”.  This week’s featured guest artist is Rich Friedman
URL:https://twocanblue.com/event/biscuit-jam-the-funky-biscuit-83/
LOCATION:The Funky Biscuit\, 303 SW Mizner Blvd\, Boca Raton\, FL\, 33432\, United States
ATTACH;FMTTYPE=image/jpeg:https://twocanblue.com/wp-content/uploads/2017/04/Steve-at-the-Biscuit.jpg
END:VEVENT
BEGIN:VEVENT
DTSTART;TZID=America/New_York:20230317T170000
DTEND;TZID=America/New_York:20230317T200000
DTSTAMP:20260421T225507
CREATED:20230209T164840Z
LAST-MODIFIED:20230209T164840Z
UID:3380-1679072400-1679083200@twocanblue.com
SUMMARY:Twocan Blue @ The Funky Biscuit
DESCRIPTION:
URL:https://twocanblue.com/event/twocan-blue-the-funky-biscuit-70/
LOCATION:The Funky Biscuit\, 303 SW Mizner Blvd\, Boca Raton\, FL\, 33432\, United States
ATTACH;FMTTYPE=image/jpeg:https://twocanblue.com/wp-content/uploads/2014/11/10881665_1529876507261483_4660710390013814205_n.jpg
END:VEVENT
BEGIN:VEVENT
DTSTART;TZID=America/New_York:20230320T190000
DTEND;TZID=America/New_York:20230320T190000
DTSTAMP:20260421T225507
CREATED:20230209T165054Z
LAST-MODIFIED:20230209T165104Z
UID:3382-1679338800-1679338800@twocanblue.com
SUMMARY:"Biscuit Jam" @ The Funky Biscuit
DESCRIPTION:Richie joins with the house band for the Monday night “Biscuit Jam”.  This weeks featured guest artist is Anthony Geraci.
URL:https://twocanblue.com/event/biscuit-jam-the-funky-biscuit-84/
LOCATION:The Funky Biscuit\, 303 SW Mizner Blvd\, Boca Raton\, FL\, 33432\, United States
ATTACH;FMTTYPE=image/jpeg:https://twocanblue.com/wp-content/uploads/2018/04/Richie-w-Strat.jpg
END:VEVENT
BEGIN:VEVENT
DTSTART;TZID=America/New_York:20230331T170000
DTEND;TZID=America/New_York:20230331T200000
DTSTAMP:20260421T225507
CREATED:20230310T192242Z
LAST-MODIFIED:20230310T192242Z
UID:3395-1680282000-1680292800@twocanblue.com
SUMMARY:Twocan Blue @ Funky Biscuit
DESCRIPTION:
URL:https://twocanblue.com/event/twocan-blue-funky-biscuit-15/
LOCATION:The Funky Biscuit\, 303 SW Mizner Blvd\, Boca Raton\, FL\, 33432\, United States
ATTACH;FMTTYPE=image/jpeg:https://twocanblue.com/wp-content/uploads/2014/11/twocan-blue-funky-biscuit-2.jpg
END:VEVENT
END:VCALENDAR