BEGIN:VCALENDAR
VERSION:2.0
PRODID:-//Twocan Blue Musical Duo - ECPv6.14.2//NONSGML v1.0//EN
CALSCALE:GREGORIAN
METHOD:PUBLISH
X-ORIGINAL-URL:https://twocanblue.com
X-WR-CALDESC:Events for Twocan Blue Musical Duo
REFRESH-INTERVAL;VALUE=DURATION:PT1H
X-Robots-Tag:noindex
X-PUBLISHED-TTL:PT1H
BEGIN:VTIMEZONE
TZID:America/New_York
BEGIN:DAYLIGHT
TZOFFSETFROM:-0500
TZOFFSETTO:-0400
TZNAME:EDT
DTSTART:20230312T070000
END:DAYLIGHT
BEGIN:STANDARD
TZOFFSETFROM:-0400
TZOFFSETTO:-0500
TZNAME:EST
DTSTART:20231105T060000
END:STANDARD
END:VTIMEZONE
BEGIN:VEVENT
DTSTART;TZID=America/New_York:20230703T190000
DTEND;TZID=America/New_York:20230703T190000
DTSTAMP:20260421T124301
CREATED:20230629T182834Z
LAST-MODIFIED:20230629T182849Z
UID:3511-1688410800-1688410800@twocanblue.com
SUMMARY:"Biscuit Jam" @ The Funky Biscuit
DESCRIPTION:Richie joins with the house band for the Monday night “Biscuit Jam”.  This weeks guest is Sista MaryBeth.
URL:https://twocanblue.com/event/biscuit-jam-the-funky-biscuit-96/
LOCATION:The Funky Biscuit\, 303 SW Mizner Blvd\, Boca Raton\, FL\, 33432\, United States
ATTACH;FMTTYPE=image/jpeg:https://twocanblue.com/wp-content/uploads/2022/09/20220823_1656141-scaled.jpg
END:VEVENT
BEGIN:VEVENT
DTSTART;TZID=America/New_York:20230704T200000
DTEND;TZID=America/New_York:20230704T200000
DTSTAMP:20260421T124301
CREATED:20230702T174256Z
LAST-MODIFIED:20230702T174309Z
UID:3537-1688500800-1688500800@twocanblue.com
SUMMARY:The Westside Blues Band @ The Tiperrary Pub
DESCRIPTION:Richie joins on guitar with John Yurt\, Captain Reese and Rockin’ Jake as “The Westside Blues Band” for a July 4th party!
URL:https://twocanblue.com/event/the-westside-blues-band-the-tiperrary-pub/
LOCATION:Tipperary Pub\, 1540 SE 3rd Ct.\, Deerfield Beach\, FL\, United States
ATTACH;FMTTYPE=image/jpeg:https://twocanblue.com/wp-content/uploads/2018/04/Richie-John-Garbarino-photog.jpg
END:VEVENT
BEGIN:VEVENT
DTSTART;TZID=America/New_York:20230705T193000
DTEND;TZID=America/New_York:20230705T193000
DTSTAMP:20260421T124301
CREATED:20230702T174608Z
LAST-MODIFIED:20230704T174923Z
UID:3539-1688585400-1688585400@twocanblue.com
SUMMARY:The Westside Blues Band @ Rudy's
DESCRIPTION:Richie joins on guitar with John Yurt\, Mark Telesca and Rockin’ Jake for some Wednesday night blues!
URL:https://twocanblue.com/event/the-westside-blues-band-rudys/
LOCATION:Rudy’s\, Lake Worth\, FL
ATTACH;FMTTYPE=image/jpeg:https://twocanblue.com/wp-content/uploads/2018/04/Richie-w-Strat.jpg
END:VEVENT
BEGIN:VEVENT
DTSTART;TZID=America/New_York:20230707T170000
DTEND;TZID=America/New_York:20230707T200000
DTSTAMP:20260421T124301
CREATED:20230629T183109Z
LAST-MODIFIED:20230629T183121Z
UID:3513-1688749200-1688760000@twocanblue.com
SUMMARY:Twocan Blue @ The Funky Biscuit
DESCRIPTION:
URL:https://twocanblue.com/event/twocan-blue-the-funky-biscuit-82/
LOCATION:The Funky Biscuit\, 303 SW Mizner Blvd\, Boca Raton\, FL\, 33432\, United States
ATTACH;FMTTYPE=image/jpeg:https://twocanblue.com/wp-content/uploads/2014/11/twocan-blue-funky-biscuit.jpg
END:VEVENT
BEGIN:VEVENT
DTSTART;TZID=America/New_York:20230710T190000
DTEND;TZID=America/New_York:20230710T190000
DTSTAMP:20260421T124301
CREATED:20230629T183322Z
LAST-MODIFIED:20230629T183334Z
UID:3515-1689015600-1689015600@twocanblue.com
SUMMARY:"Biscuit Jam" @ The Funky Biscuit
DESCRIPTION:Richie joins with the house band for the Monday night “Biscuit Jam”.  This week’s guest is Jerry Leeman.
URL:https://twocanblue.com/event/biscuit-jam-the-funky-biscuit-97/
LOCATION:The Funky Biscuit\, 303 SW Mizner Blvd\, Boca Raton\, FL\, 33432\, United States
ATTACH;FMTTYPE=image/jpeg:https://twocanblue.com/wp-content/uploads/2021/06/New-Biscuit-band-shot.jpg
END:VEVENT
BEGIN:VEVENT
DTSTART;TZID=America/New_York:20230713T193000
DTEND;TZID=America/New_York:20230713T223000
DTSTAMP:20260421T124301
CREATED:20230629T183523Z
LAST-MODIFIED:20230629T183535Z
UID:3517-1689276600-1689287400@twocanblue.com
SUMMARY:Twocan Blue @ Tim Finnegans
DESCRIPTION:
URL:https://twocanblue.com/event/twocan-blue-tim-finnegans-11/
LOCATION:The Funky Biscuit\, 303 SW Mizner Blvd\, Boca Raton\, FL\, 33432\, United States
ATTACH;FMTTYPE=image/jpeg:https://twocanblue.com/wp-content/uploads/2014/11/10881665_1529876507261483_4660710390013814205_n.jpg
END:VEVENT
BEGIN:VEVENT
DTSTART;TZID=America/New_York:20230714T170000
DTEND;TZID=America/New_York:20230714T200000
DTSTAMP:20260421T124301
CREATED:20230629T183657Z
LAST-MODIFIED:20230629T183720Z
UID:3519-1689354000-1689364800@twocanblue.com
SUMMARY:Twocan Blue @ The Funky Biscuit
DESCRIPTION:
URL:https://twocanblue.com/event/twocan-blue-the-funky-biscuit-83/
LOCATION:The Funky Biscuit\, 303 SW Mizner Blvd\, Boca Raton\, FL\, 33432\, United States
ATTACH;FMTTYPE=image/jpeg:https://twocanblue.com/wp-content/uploads/2022/09/20220823_1655341-scaled.jpg
END:VEVENT
BEGIN:VEVENT
DTSTART;TZID=America/New_York:20230714T210000
DTEND;TZID=America/New_York:20230714T210000
DTSTAMP:20260421T124301
CREATED:20230629T185151Z
LAST-MODIFIED:20230629T185204Z
UID:3529-1689368400-1689368400@twocanblue.com
SUMMARY:The Funky Biscuit Allstars @ The Funky Biscuit
DESCRIPTION:The house band will play a Friday night for the Funky Biscuit’s 12th Anniversary weekend.
URL:https://twocanblue.com/event/the-funky-biscuit-allstars-the-funky-biscuit-2/
LOCATION:The Funky Biscuit\, 303 SW Mizner Blvd\, Boca Raton\, FL\, 33432\, United States
ATTACH;FMTTYPE=image/jpeg:https://twocanblue.com/wp-content/uploads/2021/06/New-Biscuit-band-shot.jpg
END:VEVENT
BEGIN:VEVENT
DTSTART;TZID=America/New_York:20230721T170000
DTEND;TZID=America/New_York:20230721T200000
DTSTAMP:20260421T124301
CREATED:20230629T183920Z
LAST-MODIFIED:20230629T183940Z
UID:3521-1689958800-1689969600@twocanblue.com
SUMMARY:Twocan Blue @ The Funky Biscuit
DESCRIPTION:
URL:https://twocanblue.com/event/twocan-blue-the-funky-biscuit-84/
LOCATION:The Funky Biscuit\, 303 SW Mizner Blvd\, Boca Raton\, FL\, 33432\, United States
ATTACH;FMTTYPE=image/png:https://twocanblue.com/wp-content/uploads/2021/01/TCB-twocan-logo-560.png
END:VEVENT
BEGIN:VEVENT
DTSTART;TZID=America/New_York:20230724T190000
DTEND;TZID=America/New_York:20230724T190000
DTSTAMP:20260421T124301
CREATED:20230629T184218Z
LAST-MODIFIED:20230629T184256Z
UID:3523-1690225200-1690225200@twocanblue.com
SUMMARY:"Biscuit Jam" @ The Funky Biscuit
DESCRIPTION:Richie joins with the house band for the Monday night “Biscuit Jam”.  This week’s guest is Johnny B.
URL:https://twocanblue.com/event/biscuit-jam-the-funky-biscuit-98/
LOCATION:The Funky Biscuit\, 303 SW Mizner Blvd\, Boca Raton\, FL\, 33432\, United States
ATTACH;FMTTYPE=image/jpeg:https://twocanblue.com/wp-content/uploads/2018/04/Richie-w-Strat.jpg
END:VEVENT
BEGIN:VEVENT
DTSTART;TZID=America/New_York:20230725T190000
DTEND;TZID=America/New_York:20230725T230000
DTSTAMP:20260421T124301
CREATED:20230629T184458Z
LAST-MODIFIED:20230629T184521Z
UID:3525-1690311600-1690326000@twocanblue.com
SUMMARY:The Fabulous Fleetwood's @ The Tiperrary Pub
DESCRIPTION:
URL:https://twocanblue.com/event/the-fabulous-fleetwoods-the-tiperrary-pub-2/
LOCATION:Tipperary Pub\, 1540 SE 3rd Ct.\, Deerfield Beach\, FL\, United States
ATTACH;FMTTYPE=image/jpeg:https://twocanblue.com/wp-content/uploads/2015/04/Fleetpic001.jpg
END:VEVENT
BEGIN:VEVENT
DTSTART;TZID=America/New_York:20230727T190000
DTEND;TZID=America/New_York:20230727T220000
DTSTAMP:20260421T124301
CREATED:20230629T184933Z
LAST-MODIFIED:20230629T184946Z
UID:3527-1690484400-1690495200@twocanblue.com
SUMMARY:Twocan Blue @ Rudy's
DESCRIPTION:
URL:https://twocanblue.com/event/twocan-blue-rudys-6/
LOCATION:Rudy’s\, Lake Worth\, FL
ATTACH;FMTTYPE=image/jpeg:https://twocanblue.com/wp-content/uploads/2014/11/twocan-blue-at-kevros-art-bar.jpg
END:VEVENT
BEGIN:VEVENT
DTSTART;TZID=America/New_York:20230728T170000
DTEND;TZID=America/New_York:20230728T200000
DTSTAMP:20260421T124301
CREATED:20230629T185319Z
LAST-MODIFIED:20230629T185333Z
UID:3531-1690563600-1690574400@twocanblue.com
SUMMARY:Twocan Blue @ The Funky Biscuit
DESCRIPTION:
URL:https://twocanblue.com/event/twocan-blue-the-funky-biscuit-85/
LOCATION:The Funky Biscuit\, 303 SW Mizner Blvd\, Boca Raton\, FL\, 33432\, United States
ATTACH;FMTTYPE=image/jpeg:https://twocanblue.com/wp-content/uploads/2014/11/twocan-blue-funky-biscuit.jpg
END:VEVENT
BEGIN:VEVENT
DTSTART;TZID=America/New_York:20230730T180000
DTEND;TZID=America/New_York:20230730T210000
DTSTAMP:20260421T124301
CREATED:20230629T185458Z
LAST-MODIFIED:20230629T185544Z
UID:3533-1690740000-1690750800@twocanblue.com
SUMMARY:The Fabulous Fleetwood's @ Rudy's
DESCRIPTION:
URL:https://twocanblue.com/event/the-fabulous-fleetwoods-rudys-10/
LOCATION:Rudy’s\, Lake Worth\, FL
ATTACH;FMTTYPE=image/jpeg:https://twocanblue.com/wp-content/uploads/2018/06/BH0nStage.jpg
END:VEVENT
BEGIN:VEVENT
DTSTART;TZID=America/New_York:20230731T190000
DTEND;TZID=America/New_York:20230731T190000
DTSTAMP:20260421T124301
CREATED:20230629T185749Z
LAST-MODIFIED:20230629T185951Z
UID:3535-1690830000-1690830000@twocanblue.com
SUMMARY:"Biscuit Jam" @ The Funky Biscuit
DESCRIPTION:Richie joins with the house band for the Monday night “Biscuit Jam”.  This week’s guest is Jimi Fiano.
URL:https://twocanblue.com/event/biscuit-jam-the-funky-biscuit-99/
LOCATION:The Funky Biscuit\, 303 SW Mizner Blvd\, Boca Raton\, FL\, 33432\, United States
ATTACH;FMTTYPE=image/jpeg:https://twocanblue.com/wp-content/uploads/2018/04/Richie-John-Garbarino-photog.jpg
END:VEVENT
END:VCALENDAR