BEGIN:VCALENDAR
VERSION:2.0
PRODID:-//Twocan Blue Musical Duo - ECPv6.14.2//NONSGML v1.0//EN
CALSCALE:GREGORIAN
METHOD:PUBLISH
X-ORIGINAL-URL:https://twocanblue.com
X-WR-CALDESC:Events for Twocan Blue Musical Duo
REFRESH-INTERVAL;VALUE=DURATION:PT1H
X-Robots-Tag:noindex
X-PUBLISHED-TTL:PT1H
BEGIN:VTIMEZONE
TZID:America/New_York
BEGIN:DAYLIGHT
TZOFFSETFROM:-0500
TZOFFSETTO:-0400
TZNAME:EDT
DTSTART:20230312T070000
END:DAYLIGHT
BEGIN:STANDARD
TZOFFSETFROM:-0400
TZOFFSETTO:-0500
TZNAME:EST
DTSTART:20231105T060000
END:STANDARD
END:VTIMEZONE
BEGIN:VEVENT
DTSTART;TZID=America/New_York:20230901T170000
DTEND;TZID=America/New_York:20230901T200000
DTSTAMP:20260421T073214
CREATED:20230809T183711Z
LAST-MODIFIED:20230809T183730Z
UID:3572-1693587600-1693598400@twocanblue.com
SUMMARY:Twocan Blue @ The Funky Biscuit
DESCRIPTION:
URL:https://twocanblue.com/event/twocan-blue-the-funky-biscuit-89/
LOCATION:The Funky Biscuit\, 303 SW Mizner Blvd\, Boca Raton\, FL\, 33432\, United States
ATTACH;FMTTYPE=image/jpeg:https://twocanblue.com/wp-content/uploads/2014/11/twocan-blue-funky-biscuit-2.jpg
END:VEVENT
BEGIN:VEVENT
DTSTART;TZID=America/New_York:20230904T190000
DTEND;TZID=America/New_York:20230904T190000
DTSTAMP:20260421T073214
CREATED:20230809T184116Z
LAST-MODIFIED:20230826T195306Z
UID:3574-1693854000-1693854000@twocanblue.com
SUMMARY:"Biscuit Jam" @ The Funky Biscuit
DESCRIPTION:Richie joins with the house band for the Monday night “Biscuit Jam”.  This week’s featured guest artist is “Louie & The Atomics.
URL:https://twocanblue.com/event/biscuit-jam-the-funky-biscuit-102/
LOCATION:The Funky Biscuit\, 303 SW Mizner Blvd\, Boca Raton\, FL\, 33432\, United States
ATTACH;FMTTYPE=image/jpeg:https://twocanblue.com/wp-content/uploads/2022/09/20220823_1655341-scaled.jpg
END:VEVENT
BEGIN:VEVENT
DTSTART;TZID=America/New_York:20230908T170000
DTEND;TZID=America/New_York:20230908T200000
DTSTAMP:20260421T073214
CREATED:20230809T184327Z
LAST-MODIFIED:20230809T184344Z
UID:3576-1694192400-1694203200@twocanblue.com
SUMMARY:Twocan Blue @ The Funky Biscuit
DESCRIPTION:
URL:https://twocanblue.com/event/twocan-blue-the-funky-biscuit-90/
LOCATION:The Funky Biscuit\, 303 SW Mizner Blvd\, Boca Raton\, FL\, 33432\, United States
ATTACH;FMTTYPE=image/jpeg:https://twocanblue.com/wp-content/uploads/2014/11/richie-theresa-600px.jpg
END:VEVENT
BEGIN:VEVENT
DTSTART;TZID=America/New_York:20230911T190000
DTEND;TZID=America/New_York:20230911T190000
DTSTAMP:20260421T073214
CREATED:20230809T184548Z
LAST-MODIFIED:20230826T195413Z
UID:3578-1694458800-1694458800@twocanblue.com
SUMMARY:"Biscuit Jam" @ The Funky Biscuit"
DESCRIPTION:Richie joins with the house band for the Monday night “Biscuit Jam”.  This week’s featured guest artist is “Famous” Frank Ward.
URL:https://twocanblue.com/event/biscuit-jam-the-funky-biscuit-103/
LOCATION:The Funky Biscuit\, 303 SW Mizner Blvd\, Boca Raton\, FL\, 33432\, United States
ATTACH;FMTTYPE=image/jpeg:https://twocanblue.com/wp-content/uploads/2021/06/New-Biscuit-band-shot.jpg
END:VEVENT
BEGIN:VEVENT
DTSTART;TZID=America/New_York:20230915T170000
DTEND;TZID=America/New_York:20230915T200000
DTSTAMP:20260421T073214
CREATED:20230809T184729Z
LAST-MODIFIED:20230809T184744Z
UID:3580-1694797200-1694808000@twocanblue.com
SUMMARY:Twocan Blue @ The Funky Biscuit
DESCRIPTION:
URL:https://twocanblue.com/event/twocan-blue-the-funky-biscuit-91/
LOCATION:The Funky Biscuit\, 303 SW Mizner Blvd\, Boca Raton\, FL\, 33432\, United States
ATTACH;FMTTYPE=image/jpeg:https://twocanblue.com/wp-content/uploads/2022/09/20220823_1656141-scaled.jpg
END:VEVENT
BEGIN:VEVENT
DTSTART;TZID=America/New_York:20230918T190000
DTEND;TZID=America/New_York:20230918T190000
DTSTAMP:20260421T073214
CREATED:20230809T185025Z
LAST-MODIFIED:20230826T195547Z
UID:3582-1695063600-1695063600@twocanblue.com
SUMMARY:"Biscuit Jam" @ The Funky Biscuit
DESCRIPTION:Richie joins with the house band for the Monday night “Biscuit Jam”  This week’s featured guest artist is Rob Arenth
URL:https://twocanblue.com/event/biscuit-jam-the-funky-biscuit-104/
LOCATION:The Funky Biscuit\, 303 SW Mizner Blvd\, Boca Raton\, FL\, 33432\, United States
ATTACH;FMTTYPE=image/jpeg:https://twocanblue.com/wp-content/uploads/2022/09/20220823_1655341-scaled.jpg
END:VEVENT
BEGIN:VEVENT
DTSTART;TZID=America/New_York:20230919T200000
DTEND;TZID=America/New_York:20230919T230000
DTSTAMP:20260421T073214
CREATED:20230809T185255Z
LAST-MODIFIED:20230809T185321Z
UID:3584-1695153600-1695164400@twocanblue.com
SUMMARY:The Fabulous Fleetwood's @ The Tipperary Pub
DESCRIPTION:
URL:https://twocanblue.com/event/the-fabulous-fleetwoods-the-tipperary-pub-2/
LOCATION:Tipperary Pub\, 1540 SE 3rd Ct.\, Deerfield Beach\, FL\, United States
ATTACH;FMTTYPE=image/jpeg:https://twocanblue.com/wp-content/uploads/2018/06/BH0nStage.jpg
END:VEVENT
BEGIN:VEVENT
DTSTART;TZID=America/New_York:20230921T193000
DTEND;TZID=America/New_York:20230921T223000
DTSTAMP:20260421T073214
CREATED:20230809T185504Z
LAST-MODIFIED:20230809T185525Z
UID:3586-1695324600-1695335400@twocanblue.com
SUMMARY:Twocan Blue @ Tim Finnegans
DESCRIPTION:
URL:https://twocanblue.com/event/twocan-blue-tim-finnegans-13/
LOCATION:Tim Finnegan’s\, 2885 S. Fed. Hwy.\, Delray Beach\, FL\, 33483
ATTACH;FMTTYPE=image/jpeg:https://twocanblue.com/wp-content/uploads/2014/11/twocan-blue-aruba.jpg
END:VEVENT
BEGIN:VEVENT
DTSTART;TZID=America/New_York:20230922T170000
DTEND;TZID=America/New_York:20230922T200000
DTSTAMP:20260421T073214
CREATED:20230809T185709Z
LAST-MODIFIED:20230809T185725Z
UID:3588-1695402000-1695412800@twocanblue.com
SUMMARY:Twocan Blue @ The Funky Biscuit
DESCRIPTION:
URL:https://twocanblue.com/event/twocan-blue-the-funky-biscuit-92/
LOCATION:The Funky Biscuit\, 303 SW Mizner Blvd\, Boca Raton\, FL\, 33432\, United States
ATTACH;FMTTYPE=image/jpeg:https://twocanblue.com/wp-content/uploads/2022/09/20220823_1655341-scaled.jpg
END:VEVENT
BEGIN:VEVENT
DTSTART;TZID=America/New_York:20230925T190000
DTEND;TZID=America/New_York:20230925T190000
DTSTAMP:20260421T073214
CREATED:20230809T185928Z
LAST-MODIFIED:20230826T195743Z
UID:3590-1695668400-1695668400@twocanblue.com
SUMMARY:"Biscuit Jam @ The Funky Biscuit
DESCRIPTION:Richie joins with the house band for the Monday night “Biscuit Jam”  This week’s featured guest artist is Jeff Lloyd
URL:https://twocanblue.com/event/biscuit-jam-the-funky-biscuit-105/
LOCATION:The Funky Biscuit\, 303 SW Mizner Blvd\, Boca Raton\, FL\, 33432\, United States
ATTACH;FMTTYPE=image/jpeg:https://twocanblue.com/wp-content/uploads/2021/06/New-Biscuit-band-shot.jpg
END:VEVENT
END:VCALENDAR