BEGIN:VCALENDAR
VERSION:2.0
PRODID:-//Twocan Blue Musical Duo - ECPv6.14.2//NONSGML v1.0//EN
CALSCALE:GREGORIAN
METHOD:PUBLISH
X-WR-CALNAME:Twocan Blue Musical Duo
X-ORIGINAL-URL:https://twocanblue.com
X-WR-CALDESC:Events for Twocan Blue Musical Duo
REFRESH-INTERVAL;VALUE=DURATION:PT1H
X-Robots-Tag:noindex
X-PUBLISHED-TTL:PT1H
BEGIN:VTIMEZONE
TZID:America/New_York
BEGIN:DAYLIGHT
TZOFFSETFROM:-0500
TZOFFSETTO:-0400
TZNAME:EDT
DTSTART:20230312T070000
END:DAYLIGHT
BEGIN:STANDARD
TZOFFSETFROM:-0400
TZOFFSETTO:-0500
TZNAME:EST
DTSTART:20231105T060000
END:STANDARD
END:VTIMEZONE
BEGIN:VEVENT
DTSTART;TZID=America/New_York:20231013T170000
DTEND;TZID=America/New_York:20231013T200000
DTSTAMP:20260421T022408
CREATED:20230908T152226Z
LAST-MODIFIED:20230908T152242Z
UID:3606-1697216400-1697227200@twocanblue.com
SUMMARY:Twocan Blue @ The Funky Biscuit
DESCRIPTION:
URL:https://twocanblue.com/event/twocan-blue-the-funky-biscuit-94/
LOCATION:The Funky Biscuit\, 303 SW Mizner Blvd\, Boca Raton\, FL\, 33432\, United States
ATTACH;FMTTYPE=image/jpeg:https://twocanblue.com/wp-content/uploads/2014/11/twocan-blue-funky-biscuit-2.jpg
END:VEVENT
BEGIN:VEVENT
DTSTART;TZID=America/New_York:20231016T193000
DTEND;TZID=America/New_York:20231016T233000
DTSTAMP:20260421T022408
CREATED:20230908T164336Z
LAST-MODIFIED:20230908T164347Z
UID:3624-1697484600-1697499000@twocanblue.com
SUMMARY:"Biscuit Jam" @ The Funky Biscuit
DESCRIPTION:Richie joins with the house band for the Monday night “Biscuit Jam”
URL:https://twocanblue.com/event/biscuit-jam-the-funky-biscuit-107/
LOCATION:The Funky Biscuit\, 303 SW Mizner Blvd\, Boca Raton\, FL\, 33432\, United States
ATTACH;FMTTYPE=image/jpeg:https://twocanblue.com/wp-content/uploads/2018/04/Richie-John-Garbarino-photog.jpg
END:VEVENT
BEGIN:VEVENT
DTSTART;TZID=America/New_York:20231017T200000
DTEND;TZID=America/New_York:20231017T230000
DTSTAMP:20260421T022408
CREATED:20230908T160628Z
LAST-MODIFIED:20230908T160643Z
UID:3612-1697572800-1697583600@twocanblue.com
SUMMARY:"The Fabulous Fleetwood's" @ The Tipperary Pub
DESCRIPTION:
URL:https://twocanblue.com/event/the-fabulous-fleetwoods-the-tipperary-pub-3/
LOCATION:Tipperary Pub\, 1540 SE 3rd Ct.\, Deerfield Beach\, FL\, United States
ATTACH;FMTTYPE=image/jpeg:https://twocanblue.com/wp-content/uploads/2018/06/BH0nStage.jpg
END:VEVENT
BEGIN:VEVENT
DTSTART;TZID=America/New_York:20231019T193000
DTEND;TZID=America/New_York:20231019T223000
DTSTAMP:20260421T022408
CREATED:20230908T160905Z
LAST-MODIFIED:20230908T160916Z
UID:3614-1697743800-1697754600@twocanblue.com
SUMMARY:Twocan Blue @ Tim Finnegans
DESCRIPTION:
URL:https://twocanblue.com/event/twocan-blue-tim-finnegans-14/
LOCATION:Tim Finnegan’s\, 2885 S. Fed. Hwy.\, Delray Beach\, FL\, 33483
ATTACH;FMTTYPE=image/jpeg:https://twocanblue.com/wp-content/uploads/2014/11/10881665_1529876507261483_4660710390013814205_n.jpg
END:VEVENT
BEGIN:VEVENT
DTSTART;TZID=America/New_York:20231020T170000
DTEND;TZID=America/New_York:20231020T200000
DTSTAMP:20260421T022408
CREATED:20230908T152358Z
LAST-MODIFIED:20230908T153415Z
UID:3608-1697821200-1697832000@twocanblue.com
SUMMARY:Twocan Blue @ The Funky Biscuit
DESCRIPTION:
URL:https://twocanblue.com/event/twocan-blue-the-funky-biscuit-95/
LOCATION:The Funky Biscuit\, 303 SW Mizner Blvd\, Boca Raton\, FL\, 33432\, United States
ATTACH;FMTTYPE=image/jpeg:https://twocanblue.com/wp-content/uploads/2022/09/20220823_1655341-scaled.jpg
END:VEVENT
BEGIN:VEVENT
DTSTART;TZID=America/New_York:20231022T180000
DTEND;TZID=America/New_York:20231022T213000
DTSTAMP:20260421T022408
CREATED:20230908T161134Z
LAST-MODIFIED:20230908T161149Z
UID:3616-1697997600-1698010200@twocanblue.com
SUMMARY:"The Fabulous Fleetwood's" @ Galuppi's
DESCRIPTION:
URL:https://twocanblue.com/event/the-fabulous-fleetwoods-galuppis-2/
LOCATION:Galuppi’s on the Green\, Pompano Beach\, FL\, United States
ATTACH;FMTTYPE=image/jpeg:https://twocanblue.com/wp-content/uploads/2015/04/Fleetpic001.jpg
END:VEVENT
BEGIN:VEVENT
DTSTART;TZID=America/New_York:20231023T193000
DTEND;TZID=America/New_York:20231023T233000
DTSTAMP:20260421T022408
CREATED:20230908T164533Z
LAST-MODIFIED:20230908T164547Z
UID:3626-1698089400-1698103800@twocanblue.com
SUMMARY:"Biscuit Jam" @ The Funky Biscuit
DESCRIPTION:Richie joins with the house band for the Monday night “Biscuit Jam”
URL:https://twocanblue.com/event/biscuit-jam-the-funky-biscuit-108/
LOCATION:The Funky Biscuit\, 303 SW Mizner Blvd\, Boca Raton\, FL\, 33432\, United States
ATTACH;FMTTYPE=image/jpeg:https://twocanblue.com/wp-content/uploads/2022/09/20220823_1656141-scaled.jpg
END:VEVENT
BEGIN:VEVENT
DTSTART;TZID=America/New_York:20231024T170000
DTEND;TZID=America/New_York:20231024T200000
DTSTAMP:20260421T022408
CREATED:20230908T151510Z
LAST-MODIFIED:20230908T151605Z
UID:3602-1698166800-1698177600@twocanblue.com
SUMMARY:Twocan Blue @ Galuppi's
DESCRIPTION:
URL:https://twocanblue.com/event/twocan-blue-galuppis-96/
LOCATION:Galuppi’s on the Green\, Pompano Beach\, FL\, United States
ATTACH;FMTTYPE=image/jpeg:https://twocanblue.com/wp-content/uploads/2019/06/20190103_163629-e1560002567171.jpg
END:VEVENT
BEGIN:VEVENT
DTSTART;TZID=America/New_York:20231027T170000
DTEND;TZID=America/New_York:20231027T200000
DTSTAMP:20260421T022408
CREATED:20230908T155654Z
LAST-MODIFIED:20230908T155740Z
UID:3610-1698426000-1698436800@twocanblue.com
SUMMARY:Twocan Blue @ The Funky Biscuit
DESCRIPTION:
URL:https://twocanblue.com/event/twocan-blue-the-funky-biscuit-96/
LOCATION:The Funky Biscuit\, 303 SW Mizner Blvd\, Boca Raton\, FL\, 33432\, United States
ATTACH;FMTTYPE=image/jpeg:https://twocanblue.com/wp-content/uploads/2022/09/20220823_1655341-scaled.jpg
END:VEVENT
BEGIN:VEVENT
DTSTART;TZID=America/New_York:20231028T170000
DTEND;TZID=America/New_York:20231110T200000
DTSTAMP:20260421T022408
CREATED:20231028T170518Z
LAST-MODIFIED:20231028T170529Z
UID:3649-1698512400-1699646400@twocanblue.com
SUMMARY:Twocan Blue @ The Funky Biscuit
DESCRIPTION:
URL:https://twocanblue.com/event/twocan-blue-the-funky-biscuit-97/
LOCATION:The Funky Biscuit\, 303 SW Mizner Blvd\, Boca Raton\, FL\, 33432\, United States
ATTACH;FMTTYPE=image/jpeg:https://twocanblue.com/wp-content/uploads/2014/11/twocan-blue-funky-biscuit-2.jpg
END:VEVENT
BEGIN:VEVENT
DTSTART;TZID=America/New_York:20231028T200000
DTEND;TZID=America/New_York:20231028T230000
DTSTAMP:20260421T022408
CREATED:20230908T161455Z
LAST-MODIFIED:20230908T161509Z
UID:3618-1698523200-1698534000@twocanblue.com
SUMMARY:"The Fabulous Fleetwood's" @ Rudy's
DESCRIPTION:
URL:https://twocanblue.com/event/the-fabulous-fleetwoods-rudys-12/
LOCATION:Rudy’s\, Lake Worth\, FL
ATTACH;FMTTYPE=image/jpeg:https://twocanblue.com/wp-content/uploads/2015/04/FF-blue-logo.jpg
END:VEVENT
BEGIN:VEVENT
DTSTART;TZID=America/New_York:20231030T193000
DTEND;TZID=America/New_York:20231030T233000
DTSTAMP:20260421T022408
CREATED:20230908T164828Z
LAST-MODIFIED:20230908T164839Z
UID:3628-1698694200-1698708600@twocanblue.com
SUMMARY:"Biscuit Jam" @ The Funky Biscuit
DESCRIPTION:Richie joins with the house band for the Monday night “Biscuit Jam”
URL:https://twocanblue.com/event/biscuit-jam-the-funky-biscuit-109/
LOCATION:The Funky Biscuit\, 303 SW Mizner Blvd\, Boca Raton\, FL\, 33432\, United States
ATTACH;FMTTYPE=image/jpeg:https://twocanblue.com/wp-content/uploads/2018/04/Richie-w-Strat.jpg
END:VEVENT
END:VCALENDAR