BEGIN:VCALENDAR
VERSION:2.0
PRODID:-//Twocan Blue Musical Duo - ECPv6.14.2//NONSGML v1.0//EN
CALSCALE:GREGORIAN
METHOD:PUBLISH
X-ORIGINAL-URL:https://twocanblue.com
X-WR-CALDESC:Events for Twocan Blue Musical Duo
REFRESH-INTERVAL;VALUE=DURATION:PT1H
X-Robots-Tag:noindex
X-PUBLISHED-TTL:PT1H
BEGIN:VTIMEZONE
TZID:America/New_York
BEGIN:DAYLIGHT
TZOFFSETFROM:-0500
TZOFFSETTO:-0400
TZNAME:EDT
DTSTART:20230312T070000
END:DAYLIGHT
BEGIN:STANDARD
TZOFFSETFROM:-0400
TZOFFSETTO:-0500
TZNAME:EST
DTSTART:20231105T060000
END:STANDARD
END:VTIMEZONE
BEGIN:VEVENT
DTSTART;TZID=America/New_York:20231201T210000
DTEND;TZID=America/New_York:20231201T230000
DTSTAMP:20260420T184919
CREATED:20230915T154706Z
LAST-MODIFIED:20230915T154734Z
UID:3636-1701464400-1701471600@twocanblue.com
SUMMARY:"The Blue Eyed Souls" @ The Boca Black Box
DESCRIPTION:Richie joins with “The Blue Eyed Souls”\, playing old school soul and R&B hits.
URL:https://twocanblue.com/event/the-blue-eyed-souls-the-boca-black-box/
LOCATION:Boca Black Box Center For The Arts\, 8221 Glades Rd #10\, Boca Raton\, FL\, 33434\, United States
ATTACH;FMTTYPE=image/jpeg:https://twocanblue.com/wp-content/uploads/2018/04/Richie-John-Garbarino-photog.jpg
END:VEVENT
BEGIN:VEVENT
DTSTART;TZID=America/New_York:20231205T173000
DTEND;TZID=America/New_York:20231205T200000
DTSTAMP:20260420T184919
CREATED:20231128T215734Z
LAST-MODIFIED:20231202T143950Z
UID:3668-1701797400-1701806400@twocanblue.com
SUMMARY:Twocan Blue @ Galuppi's
DESCRIPTION:
URL:https://twocanblue.com/event/twocan-blue-galuppis-99/
LOCATION:Galuppi’s on the Green\, Pompano Beach\, FL\, United States
ATTACH;FMTTYPE=image/jpeg:https://twocanblue.com/wp-content/uploads/2019/06/20190103_163629-e1560002567171.jpg
END:VEVENT
BEGIN:VEVENT
DTSTART;TZID=America/New_York:20231207T193000
DTEND;TZID=America/New_York:20231207T223000
DTSTAMP:20260420T184919
CREATED:20231128T220842Z
LAST-MODIFIED:20231128T221047Z
UID:3670-1701977400-1701988200@twocanblue.com
SUMMARY:Twocan Blue @ Tim Finnegans
DESCRIPTION:
URL:https://twocanblue.com/event/twocan-blue-tim-finnegans-16/
LOCATION:Tim Finnegan’s\, 2885 S. Fed. Hwy.\, Delray Beach\, FL\, 33483
ATTACH;FMTTYPE=image/jpeg:https://twocanblue.com/wp-content/uploads/2014/11/10881665_1529876507261483_4660710390013814205_n.jpg
END:VEVENT
BEGIN:VEVENT
DTSTART;TZID=America/New_York:20231208T170000
DTEND;TZID=America/New_York:20231208T200000
DTSTAMP:20260420T184919
CREATED:20231128T221254Z
LAST-MODIFIED:20231128T221343Z
UID:3672-1702054800-1702065600@twocanblue.com
SUMMARY:Twocan Blue @ The Funky Biscuit
DESCRIPTION:
URL:https://twocanblue.com/event/twocan-blue-the-funky-biscuit-101/
LOCATION:The Funky Biscuit\, 303 SW Mizner Blvd\, Boca Raton\, FL\, 33432\, United States
ATTACH;FMTTYPE=image/jpeg:https://twocanblue.com/wp-content/uploads/2022/09/20220823_1656141-scaled.jpg
END:VEVENT
BEGIN:VEVENT
DTSTART;TZID=America/New_York:20231211T190000
DTEND;TZID=America/New_York:20231211T190000
DTSTAMP:20260420T184919
CREATED:20231128T222130Z
LAST-MODIFIED:20231128T222143Z
UID:3674-1702321200-1702321200@twocanblue.com
SUMMARY:"Biscuit Jam" @ The Funky Biscuit
DESCRIPTION:Richie joins with the house band for the Monday night “Biscuit Jam”.  This week’s featured guest artist is the Jackson Brown tribute “Dr. My Eyes”
URL:https://twocanblue.com/event/biscuit-jam-the-funky-biscuit-113/
LOCATION:The Funky Biscuit\, 303 SW Mizner Blvd\, Boca Raton\, FL\, 33432\, United States
ATTACH;FMTTYPE=image/jpeg:https://twocanblue.com/wp-content/uploads/2022/09/20220823_1655341-scaled.jpg
END:VEVENT
BEGIN:VEVENT
DTSTART;TZID=America/New_York:20231213T190000
DTEND;TZID=America/New_York:20231213T190000
DTSTAMP:20260420T184919
CREATED:20231128T223208Z
LAST-MODIFIED:20231128T223218Z
UID:3682-1702494000-1702494000@twocanblue.com
SUMMARY:Twocan Blue & Friends - Funky Biscuit Xmas Party
DESCRIPTION:Twocan Blue invites some friends to the stage for the annual Funky Biscuit Xmas Party.  Also on the bill is The Bobby Nathan Band.
URL:https://twocanblue.com/event/twocan-blue-friends-funky-biscuit-xmas-party-2/
LOCATION:The Funky Biscuit\, 303 SW Mizner Blvd\, Boca Raton\, FL\, 33432\, United States
ATTACH;FMTTYPE=image/png:https://twocanblue.com/wp-content/uploads/2014/11/TCB-twocan-logo-351x1411.png
END:VEVENT
BEGIN:VEVENT
DTSTART;TZID=America/New_York:20231221T203000
DTEND;TZID=America/New_York:20231221T233000
DTSTAMP:20260420T184919
CREATED:20231128T223729Z
LAST-MODIFIED:20231128T223803Z
UID:3684-1703190600-1703201400@twocanblue.com
SUMMARY:The Fabulous Fleetwood's @ Double Roads
DESCRIPTION:The Fabulous Fleetwood’s bring their rockin’ blues to Double Roads in Jupiter FL.  Dance\, dine\, drink and do have a good time!
URL:https://twocanblue.com/event/the-fabulous-fleetwoods-double-roads/
LOCATION:Double Roads\, 103 US 1 Suite 1A\, Jupiter\, FL
ATTACH;FMTTYPE=image/jpeg:https://twocanblue.com/wp-content/uploads/2018/06/BH0nStage.jpg
END:VEVENT
BEGIN:VEVENT
DTSTART;TZID=America/New_York:20231222T170000
DTEND;TZID=America/New_York:20231222T200000
DTSTAMP:20260420T184919
CREATED:20231128T224124Z
LAST-MODIFIED:20231128T224155Z
UID:3688-1703264400-1703275200@twocanblue.com
SUMMARY:Twocan Blue @ The Funky Biscuit
DESCRIPTION:
URL:https://twocanblue.com/event/twocan-blue-the-funky-biscuit-103/
LOCATION:The Funky Biscuit\, 303 SW Mizner Blvd\, Boca Raton\, FL\, 33432\, United States
ATTACH;FMTTYPE=image/jpeg:https://twocanblue.com/wp-content/uploads/2022/09/20220823_1656141-scaled.jpg
END:VEVENT
BEGIN:VEVENT
DTSTART;TZID=America/New_York:20231226T173000
DTEND;TZID=America/New_York:20231226T200000
DTSTAMP:20260420T184919
CREATED:20231128T222819Z
LAST-MODIFIED:20231219T161610Z
UID:3680-1703611800-1703620800@twocanblue.com
SUMMARY:Twocan Blue @ Galuppi's
DESCRIPTION:
URL:https://twocanblue.com/event/twocan-blue-galuppis-101/
LOCATION:Galuppi’s on the Green\, Pompano Beach\, FL\, United States
ATTACH;FMTTYPE=image/jpeg:https://twocanblue.com/wp-content/uploads/2014/11/richie-theresa-600px.jpg
END:VEVENT
END:VCALENDAR