BEGIN:VCALENDAR
VERSION:2.0
PRODID:-//Twocan Blue Musical Duo - ECPv6.14.2//NONSGML v1.0//EN
CALSCALE:GREGORIAN
METHOD:PUBLISH
X-WR-CALNAME:Twocan Blue Musical Duo
X-ORIGINAL-URL:https://twocanblue.com
X-WR-CALDESC:Events for Twocan Blue Musical Duo
REFRESH-INTERVAL;VALUE=DURATION:PT1H
X-Robots-Tag:noindex
X-PUBLISHED-TTL:PT1H
BEGIN:VTIMEZONE
TZID:America/New_York
BEGIN:DAYLIGHT
TZOFFSETFROM:-0500
TZOFFSETTO:-0400
TZNAME:EDT
DTSTART:20240310T070000
END:DAYLIGHT
BEGIN:STANDARD
TZOFFSETFROM:-0400
TZOFFSETTO:-0500
TZNAME:EST
DTSTART:20241103T060000
END:STANDARD
END:VTIMEZONE
BEGIN:VEVENT
DTSTART;TZID=America/New_York:20240206T173000
DTEND;TZID=America/New_York:20240206T200000
DTSTAMP:20260420T144750
CREATED:20240206T190533Z
LAST-MODIFIED:20240206T190741Z
UID:3727-1707240600-1707249600@twocanblue.com
SUMMARY:Twocan Blue @ Galuppi's
DESCRIPTION:
URL:https://twocanblue.com/event/twocan-blue-galuppis-106/
LOCATION:Galuppi’s on the Green\, Pompano Beach\, FL\, United States
ATTACH;FMTTYPE=image/jpeg:https://twocanblue.com/wp-content/uploads/2019/06/20190103_163629-e1560002567171.jpg
END:VEVENT
BEGIN:VEVENT
DTSTART;TZID=America/New_York:20240209T170000
DTEND;TZID=America/New_York:20240209T200000
DTSTAMP:20260420T144750
CREATED:20240206T191329Z
LAST-MODIFIED:20240206T191340Z
UID:3735-1707498000-1707508800@twocanblue.com
SUMMARY:Twocan Blue @ The Funky Biscuit
DESCRIPTION:
URL:https://twocanblue.com/event/twocan-blue-the-funky-biscuit-106/
LOCATION:The Funky Biscuit\, 303 SW Mizner Blvd\, Boca Raton\, FL\, 33432\, United States
ATTACH;FMTTYPE=image/jpeg:https://twocanblue.com/wp-content/uploads/2022/09/20220823_1656141-scaled.jpg
END:VEVENT
BEGIN:VEVENT
DTSTART;TZID=America/New_York:20240212T190000
DTEND;TZID=America/New_York:20240212T190000
DTSTAMP:20260420T144750
CREATED:20240211T171601Z
LAST-MODIFIED:20240211T171710Z
UID:3741-1707764400-1707764400@twocanblue.com
SUMMARY:"Biscuit Jam" @ The Funky Biscuit
DESCRIPTION:Richie joins with the house band for the Monday night “Biscuit Jam”.  This week’s featured guest artist is “The Ghost Town Blues Band”
URL:https://twocanblue.com/event/biscuit-jam-the-funky-biscuit-117/
LOCATION:The Funky Biscuit\, 303 SW Mizner Blvd\, Boca Raton\, FL\, 33432\, United States
ATTACH;FMTTYPE=image/jpeg:https://twocanblue.com/wp-content/uploads/2022/09/20220823_1656141-scaled.jpg
END:VEVENT
BEGIN:VEVENT
DTSTART;TZID=America/New_York:20240213T173000
DTEND;TZID=America/New_York:20240213T203000
DTSTAMP:20260420T144750
CREATED:20240206T190700Z
LAST-MODIFIED:20240206T190716Z
UID:3729-1707845400-1707856200@twocanblue.com
SUMMARY:Twocan Blue @ Galuppi's
DESCRIPTION:
URL:https://twocanblue.com/event/twocan-blue-galuppis-107/
LOCATION:Galuppi’s on the Green\, Pompano Beach\, FL\, United States
ATTACH;FMTTYPE=image/jpeg:https://twocanblue.com/wp-content/uploads/2019/06/20190103_163606-e1560002717812.jpg
END:VEVENT
BEGIN:VEVENT
DTSTART;TZID=America/New_York:20240216T170000
DTEND;TZID=America/New_York:20240216T200000
DTSTAMP:20260420T144750
CREATED:20240206T191447Z
LAST-MODIFIED:20240206T191501Z
UID:3737-1708102800-1708113600@twocanblue.com
SUMMARY:Twocan Blue @ The Funky Biscuit
DESCRIPTION:
URL:https://twocanblue.com/event/twocan-blue-the-funky-biscuit-107/
LOCATION:The Funky Biscuit\, 303 SW Mizner Blvd\, Boca Raton\, FL\, 33432\, United States
ATTACH;FMTTYPE=image/jpeg:https://twocanblue.com/wp-content/uploads/2014/11/twocan-blue-funky-biscuit.jpg
END:VEVENT
BEGIN:VEVENT
DTSTART;TZID=America/New_York:20240218T130000
DTEND;TZID=America/New_York:20240218T130000
DTSTAMP:20260420T144750
CREATED:20240211T173550Z
LAST-MODIFIED:20240211T173606Z
UID:3743-1708261200-1708261200@twocanblue.com
SUMMARY:The Johnny Rawls Blues Band @ Jacks Seafood Bar & Grille
DESCRIPTION:Richie joins with the band behind bluesman “Johnny Rawls” for a Sunday afternoon show.
URL:https://twocanblue.com/event/the-johnny-rawls-blues-band-jacks-seafood-bar-grille/
LOCATION:Jacks Seafood Bar & Grille\, 975 Imperial Golf Course Blvd.\, Naples\, FL\, 34110
ATTACH;FMTTYPE=image/jpeg:https://twocanblue.com/wp-content/uploads/2018/04/Richie-w-Strat.jpg
END:VEVENT
BEGIN:VEVENT
DTSTART;TZID=America/New_York:20240219T190000
DTEND;TZID=America/New_York:20240219T190000
DTSTAMP:20260420T144750
CREATED:20240211T173754Z
LAST-MODIFIED:20240211T173810Z
UID:3746-1708369200-1708369200@twocanblue.com
SUMMARY:"Biscuit Jam" @ The Funky Biscuit
DESCRIPTION:Richie joins with the house band for the Monday night “Biscuit Jam”.  This week’s featured guest artist is Stevan Carter.
URL:https://twocanblue.com/event/biscuit-jam-the-funky-biscuit-118/
LOCATION:The Funky Biscuit\, 303 SW Mizner Blvd\, Boca Raton\, FL\, 33432\, United States
ATTACH;FMTTYPE=image/jpeg:https://twocanblue.com/wp-content/uploads/2018/04/Richie-John-Garbarino-photog.jpg
END:VEVENT
BEGIN:VEVENT
DTSTART;TZID=America/New_York:20240223T170000
DTEND;TZID=America/New_York:20240223T200000
DTSTAMP:20260420T144750
CREATED:20240206T191602Z
LAST-MODIFIED:20240206T191613Z
UID:3739-1708707600-1708718400@twocanblue.com
SUMMARY:Twocan Blue @ The Funky Biscuit
DESCRIPTION:
URL:https://twocanblue.com/event/twocan-blue-the-funky-biscuit-108/
LOCATION:The Funky Biscuit\, 303 SW Mizner Blvd\, Boca Raton\, FL\, 33432\, United States
ATTACH;FMTTYPE=image/jpeg:https://twocanblue.com/wp-content/uploads/2022/09/20220823_1655341-scaled.jpg
END:VEVENT
BEGIN:VEVENT
DTSTART;TZID=America/New_York:20240224T200000
DTEND;TZID=America/New_York:20240224T200000
DTSTAMP:20260420T144750
CREATED:20240211T175653Z
LAST-MODIFIED:20240211T175931Z
UID:3748-1708804800-1708804800@twocanblue.com
SUMMARY:The Johnny Rawls Blues Band @ The Little Bar Restaurant
DESCRIPTION:Richie joins with bluesman Johnny Rawls for an evening of blues & boogie.
URL:https://twocanblue.com/event/the-johnny-rawls-blues-band-the-little-bar-restaurant/
LOCATION:The Little Bar Restaurant\, 205 Harbor Pl\, Goodland\, FL\, 34140
ATTACH;FMTTYPE=image/jpeg:https://twocanblue.com/wp-content/uploads/2015/06/Richie-faded.jpg
END:VEVENT
BEGIN:VEVENT
DTSTART;TZID=America/New_York:20240226T190000
DTEND;TZID=America/New_York:20240226T190000
DTSTAMP:20260420T144750
CREATED:20240211T180234Z
LAST-MODIFIED:20240211T180250Z
UID:3751-1708974000-1708974000@twocanblue.com
SUMMARY:"Biscuit Jam" @ The Funky Biscuit
DESCRIPTION:Richie joins with the house band for the Monday night “Biscuit Jam”.  This week’s featured guest artist is Sista MaryBeth.
URL:https://twocanblue.com/event/biscuit-jam-the-funky-biscuit-119/
LOCATION:The Funky Biscuit\, 303 SW Mizner Blvd\, Boca Raton\, FL\, 33432\, United States
ATTACH;FMTTYPE=image/jpeg:https://twocanblue.com/wp-content/uploads/2022/09/20220823_1655341-scaled.jpg
END:VEVENT
BEGIN:VEVENT
DTSTART;TZID=America/New_York:20240227T173000
DTEND;TZID=America/New_York:20240227T200000
DTSTAMP:20260420T144750
CREATED:20240206T190906Z
LAST-MODIFIED:20240206T190916Z
UID:3731-1709055000-1709064000@twocanblue.com
SUMMARY:Twocan Blue @ Galuppi's
DESCRIPTION:
URL:https://twocanblue.com/event/twocan-blue-galuppis-108/
LOCATION:Galuppi’s on the Green\, Pompano Beach\, FL\, United States
ATTACH;FMTTYPE=image/jpeg:https://twocanblue.com/wp-content/uploads/2014/11/10881665_1529876507261483_4660710390013814205_n.jpg
END:VEVENT
END:VCALENDAR