BEGIN:VCALENDAR
VERSION:2.0
PRODID:-//Twocan Blue Musical Duo - ECPv6.14.2//NONSGML v1.0//EN
CALSCALE:GREGORIAN
METHOD:PUBLISH
X-ORIGINAL-URL:https://twocanblue.com
X-WR-CALDESC:Events for Twocan Blue Musical Duo
REFRESH-INTERVAL;VALUE=DURATION:PT1H
X-Robots-Tag:noindex
X-PUBLISHED-TTL:PT1H
BEGIN:VTIMEZONE
TZID:America/New_York
BEGIN:DAYLIGHT
TZOFFSETFROM:-0500
TZOFFSETTO:-0400
TZNAME:EDT
DTSTART:20240310T070000
END:DAYLIGHT
BEGIN:STANDARD
TZOFFSETFROM:-0400
TZOFFSETTO:-0500
TZNAME:EST
DTSTART:20241103T060000
END:STANDARD
END:VTIMEZONE
BEGIN:VEVENT
DTSTART;TZID=America/New_York:20240301T170000
DTEND;TZID=America/New_York:20240301T200000
DTSTAMP:20260420T145124
CREATED:20240222T145456Z
LAST-MODIFIED:20240222T145507Z
UID:3754-1709312400-1709323200@twocanblue.com
SUMMARY:Twocan Blue @ The Funky Biscuit
DESCRIPTION:
URL:https://twocanblue.com/event/twocan-blue-the-funky-biscuit-109/
LOCATION:The Funky Biscuit\, 303 SW Mizner Blvd\, Boca Raton\, FL\, 33432\, United States
ATTACH;FMTTYPE=image/jpeg:https://twocanblue.com/wp-content/uploads/2022/09/20220823_1656141-scaled.jpg
END:VEVENT
BEGIN:VEVENT
DTSTART;TZID=America/New_York:20240304T190000
DTEND;TZID=America/New_York:20240304T190000
DTSTAMP:20260420T145124
CREATED:20240222T150012Z
LAST-MODIFIED:20240222T150024Z
UID:3760-1709578800-1709578800@twocanblue.com
SUMMARY:"Biscuit Jam" @ The Funky Biscuit
DESCRIPTION:Richie joins with the house band for the Monday night “Biscuit Jam”.  This weeks featured guest artist is “The Mystic”
URL:https://twocanblue.com/event/biscuit-jam-the-funky-biscuit-120/
LOCATION:The Funky Biscuit\, 303 SW Mizner Blvd\, Boca Raton\, FL\, 33432\, United States
ATTACH;FMTTYPE=image/jpeg:https://twocanblue.com/wp-content/uploads/2021/06/New-Biscuit-band-shot.jpg
END:VEVENT
BEGIN:VEVENT
DTSTART;TZID=America/New_York:20240305T173000
DTEND;TZID=America/New_York:20240305T200000
DTSTAMP:20260420T145124
CREATED:20240222T150422Z
LAST-MODIFIED:20240222T150441Z
UID:3764-1709659800-1709668800@twocanblue.com
SUMMARY:Twocan Blue @ Galuppi's
DESCRIPTION:
URL:https://twocanblue.com/event/twocan-blue-galuppis-109/
LOCATION:The Funky Biscuit\, 303 SW Mizner Blvd\, Boca Raton\, FL\, 33432\, United States
ATTACH;FMTTYPE=image/jpeg:https://twocanblue.com/wp-content/uploads/2019/06/20190103_163606-e1560002717812.jpg
END:VEVENT
BEGIN:VEVENT
DTSTART;TZID=America/New_York:20240319T173000
DTEND;TZID=America/New_York:20240319T200000
DTSTAMP:20260420T145124
CREATED:20240222T150547Z
LAST-MODIFIED:20240222T150558Z
UID:3766-1710869400-1710878400@twocanblue.com
SUMMARY:Twocan Blue @ Galuppi's
DESCRIPTION:
URL:https://twocanblue.com/event/twocan-blue-galuppis-110/
LOCATION:Galuppi’s on the Green\, Pompano Beach\, FL\, United States
ATTACH;FMTTYPE=image/jpeg:https://twocanblue.com/wp-content/uploads/2019/06/20190103_163629-e1560002567171.jpg
END:VEVENT
BEGIN:VEVENT
DTSTART;TZID=America/New_York:20240320T190000
DTEND;TZID=America/New_York:20240320T223000
DTSTAMP:20260420T145124
CREATED:20240222T150929Z
LAST-MODIFIED:20240222T151029Z
UID:3770-1710961200-1710973800@twocanblue.com
SUMMARY:The Westside Blues Band @ Rudy's Bamboo Room
DESCRIPTION:Richie joins with the Westside Blues Band at the new Bamboo Room at Rudy’s in Lake Worth Beach.
URL:https://twocanblue.com/event/the-westside-blues-band-rudys-bamboo-room/
LOCATION:Rudy’s\, Lake Worth\, FL
ATTACH;FMTTYPE=image/jpeg:https://twocanblue.com/wp-content/uploads/2018/04/Richie-John-Garbarino-photog.jpg
END:VEVENT
BEGIN:VEVENT
DTSTART;TZID=America/New_York:20240322T170000
DTEND;TZID=America/New_York:20240322T200000
DTSTAMP:20260420T145124
CREATED:20240222T145609Z
LAST-MODIFIED:20240222T145619Z
UID:3756-1711126800-1711137600@twocanblue.com
SUMMARY:Twocan Blue @ The Funky Biscuit
DESCRIPTION:
URL:https://twocanblue.com/event/twocan-blue-the-funky-biscuit-110/
LOCATION:The Funky Biscuit\, 303 SW Mizner Blvd\, Boca Raton\, FL\, 33432\, United States
ATTACH;FMTTYPE=image/jpeg:https://twocanblue.com/wp-content/uploads/2022/09/20220823_1655341-scaled.jpg
END:VEVENT
BEGIN:VEVENT
DTSTART;TZID=America/New_York:20240323T200000
DTEND;TZID=America/New_York:20240323T230000
DTSTAMP:20260420T145124
CREATED:20240322T162334Z
LAST-MODIFIED:20240322T162354Z
UID:3806-1711224000-1711234800@twocanblue.com
SUMMARY:The Fabulous Fleetwood's @ Village Music Of Wellington
DESCRIPTION:
URL:https://twocanblue.com/event/the-fabulous-fleetwoods-village-music-of-wellington/
LOCATION:Village Music\, 10660 Forest Hill Blvd.\, Wellington\, FL\, 33414
ATTACH;FMTTYPE=image/jpeg:https://twocanblue.com/wp-content/uploads/2018/06/BH0nStage.jpg
END:VEVENT
BEGIN:VEVENT
DTSTART;TZID=America/New_York:20240325T190000
DTEND;TZID=America/New_York:20240325T190000
DTSTAMP:20260420T145124
CREATED:20240222T150220Z
LAST-MODIFIED:20240222T150252Z
UID:3762-1711393200-1711393200@twocanblue.com
SUMMARY:"Biscuit Jam" @ The Funky Biscuit
DESCRIPTION:Richie joins with the house band for the Monday night “Biscuit Jam”.  This weeks featured guest artist is J.D. Danner
URL:https://twocanblue.com/event/biscuit-jam-the-funky-biscuit-121/
LOCATION:The Funky Biscuit\, 303 SW Mizner Blvd\, Boca Raton\, FL\, 33432\, United States
ATTACH;FMTTYPE=image/jpeg:https://twocanblue.com/wp-content/uploads/2018/04/Richie-w-Strat.jpg
END:VEVENT
BEGIN:VEVENT
DTSTART;TZID=America/New_York:20240326T173000
DTEND;TZID=America/New_York:20240326T200000
DTSTAMP:20260420T145124
CREATED:20240222T150704Z
LAST-MODIFIED:20240222T150717Z
UID:3768-1711474200-1711483200@twocanblue.com
SUMMARY:Twocan Blue @ Galuppi's
DESCRIPTION:
URL:https://twocanblue.com/event/twocan-blue-galuppis-111/
LOCATION:Galuppi’s on the Green\, Pompano Beach\, FL\, United States
ATTACH;FMTTYPE=image/jpeg:https://twocanblue.com/wp-content/uploads/2014/11/richie-theresa-600px.jpg
END:VEVENT
BEGIN:VEVENT
DTSTART;TZID=America/New_York:20240329T170000
DTEND;TZID=America/New_York:20240329T200000
DTSTAMP:20260420T145124
CREATED:20240222T145721Z
LAST-MODIFIED:20240222T145721Z
UID:3758-1711731600-1711742400@twocanblue.com
SUMMARY:Twocan Blue @ The Funky Biscuit
DESCRIPTION:
URL:https://twocanblue.com/event/twocan-blue-the-funky-biscuit-111/
LOCATION:The Funky Biscuit\, 303 SW Mizner Blvd\, Boca Raton\, FL\, 33432\, United States
ATTACH;FMTTYPE=image/jpeg:https://twocanblue.com/wp-content/uploads/2014/11/twocan-blue-funky-biscuit.jpg
END:VEVENT
BEGIN:VEVENT
DTSTART;TZID=America/New_York:20240330T193000
DTEND;TZID=America/New_York:20240330T193000
DTSTAMP:20260420T145124
CREATED:20240222T151204Z
LAST-MODIFIED:20240222T151230Z
UID:3773-1711827000-1711827000@twocanblue.com
SUMMARY:The Fabulous Fleetwood's @ Rudy's Bamboo Room
DESCRIPTION:
URL:https://twocanblue.com/event/the-fabulous-fleetwoods-rudys-bamboo-room/
LOCATION:Rudy’s\, Lake Worth\, FL
ATTACH;FMTTYPE=image/jpeg:https://twocanblue.com/wp-content/uploads/2018/06/BH0nStage.jpg
END:VEVENT
END:VCALENDAR